BEGIN:VCALENDAR
VERSION:2.0
PRODID:-//Beautiful Garden Hills - ECPv6.15.20//NONSGML v1.0//EN
CALSCALE:GREGORIAN
METHOD:PUBLISH
X-ORIGINAL-URL:https://www.gardenhills.org
X-WR-CALDESC:Events for Beautiful Garden Hills
REFRESH-INTERVAL;VALUE=DURATION:PT1H
X-Robots-Tag:noindex
X-PUBLISHED-TTL:PT1H
BEGIN:VTIMEZONE
TZID:America/New_York
BEGIN:DAYLIGHT
TZOFFSETFROM:-0500
TZOFFSETTO:-0400
TZNAME:EDT
DTSTART:20250309T070000
END:DAYLIGHT
BEGIN:STANDARD
TZOFFSETFROM:-0400
TZOFFSETTO:-0500
TZNAME:EST
DTSTART:20251102T060000
END:STANDARD
BEGIN:DAYLIGHT
TZOFFSETFROM:-0500
TZOFFSETTO:-0400
TZNAME:EDT
DTSTART:20260308T070000
END:DAYLIGHT
BEGIN:STANDARD
TZOFFSETFROM:-0400
TZOFFSETTO:-0500
TZNAME:EST
DTSTART:20261101T060000
END:STANDARD
BEGIN:DAYLIGHT
TZOFFSETFROM:-0500
TZOFFSETTO:-0400
TZNAME:EDT
DTSTART:20270314T070000
END:DAYLIGHT
BEGIN:STANDARD
TZOFFSETFROM:-0400
TZOFFSETTO:-0500
TZNAME:EST
DTSTART:20271107T060000
END:STANDARD
BEGIN:DAYLIGHT
TZOFFSETFROM:-0500
TZOFFSETTO:-0400
TZNAME:EDT
DTSTART:20280312T070000
END:DAYLIGHT
BEGIN:STANDARD
TZOFFSETFROM:-0400
TZOFFSETTO:-0500
TZNAME:EST
DTSTART:20281105T060000
END:STANDARD
END:VTIMEZONE
BEGIN:VEVENT
DTSTART;TZID=America/New_York:20260428T190000
DTEND;TZID=America/New_York:20260428T210000
DTSTAMP:20260424T040829
CREATED:20250531T140046Z
LAST-MODIFIED:20251124T201503Z
UID:10000176-1777402800-1777410000@www.gardenhills.org
SUMMARY:NPU-B Monthly Zoning Committee Meeting
DESCRIPTION:https://us06web.zoom.us/j/81221608330\nMeeting ID: 812 2160 8330\nDial-In 646-558-8656\nAccess code\, 81221608330#
URL:https://www.gardenhills.org/event/npu-b-monthly-zoning-committee-meeting/2026-04-28/
LOCATION:Virtual
CATEGORIES:Neigborhood Planning Unit B
END:VEVENT
BEGIN:VEVENT
DTSTART;TZID=America/New_York:20260505T190000
DTEND;TZID=America/New_York:20260505T210000
DTSTAMP:20260424T040829
CREATED:20250531T135822Z
LAST-MODIFIED:20250605T101026Z
UID:10000117-1778007600-1778014800@www.gardenhills.org
SUMMARY:NPU-B Monthly Meeting
DESCRIPTION:https://us06web.zoom.us/j/81221608330\nMeeting ID: 812 2160 8330\nDial-In 646-558-8656\nAccess code 81221608330
URL:https://www.gardenhills.org/event/npu-b-monthly-meeting/2026-05-05/
LOCATION:Virtual
CATEGORIES:Neigborhood Planning Unit B
END:VEVENT
BEGIN:VEVENT
DTSTART;TZID=America/New_York:20260526T190000
DTEND;TZID=America/New_York:20260526T210000
DTSTAMP:20260424T040829
CREATED:20250531T140046Z
LAST-MODIFIED:20251124T201503Z
UID:10000177-1779822000-1779829200@www.gardenhills.org
SUMMARY:NPU-B Monthly Zoning Committee Meeting
DESCRIPTION:https://us06web.zoom.us/j/81221608330\nMeeting ID: 812 2160 8330\nDial-In 646-558-8656\nAccess code\, 81221608330#
URL:https://www.gardenhills.org/event/npu-b-monthly-zoning-committee-meeting/2026-05-26/
LOCATION:Virtual
CATEGORIES:Neigborhood Planning Unit B
END:VEVENT
BEGIN:VEVENT
DTSTART;TZID=America/New_York:20260602T190000
DTEND;TZID=America/New_York:20260602T210000
DTSTAMP:20260424T040829
CREATED:20250531T135822Z
LAST-MODIFIED:20250605T101026Z
UID:10000118-1780426800-1780434000@www.gardenhills.org
SUMMARY:NPU-B Monthly Meeting
DESCRIPTION:https://us06web.zoom.us/j/81221608330\nMeeting ID: 812 2160 8330\nDial-In 646-558-8656\nAccess code 81221608330
URL:https://www.gardenhills.org/event/npu-b-monthly-meeting/2026-06-02/
LOCATION:Virtual
CATEGORIES:Neigborhood Planning Unit B
END:VEVENT
BEGIN:VEVENT
DTSTART;TZID=America/New_York:20260630T190000
DTEND;TZID=America/New_York:20260630T210000
DTSTAMP:20260424T040829
CREATED:20250531T140046Z
LAST-MODIFIED:20251124T201503Z
UID:10000178-1782846000-1782853200@www.gardenhills.org
SUMMARY:NPU-B Monthly Zoning Committee Meeting
DESCRIPTION:https://us06web.zoom.us/j/81221608330\nMeeting ID: 812 2160 8330\nDial-In 646-558-8656\nAccess code\, 81221608330#
URL:https://www.gardenhills.org/event/npu-b-monthly-zoning-committee-meeting/2026-06-30/
LOCATION:Virtual
CATEGORIES:Neigborhood Planning Unit B
END:VEVENT
BEGIN:VEVENT
DTSTART;TZID=America/New_York:20260707T190000
DTEND;TZID=America/New_York:20260707T210000
DTSTAMP:20260424T040829
CREATED:20250531T135822Z
LAST-MODIFIED:20250605T101026Z
UID:10000119-1783450800-1783458000@www.gardenhills.org
SUMMARY:NPU-B Monthly Meeting
DESCRIPTION:https://us06web.zoom.us/j/81221608330\nMeeting ID: 812 2160 8330\nDial-In 646-558-8656\nAccess code 81221608330
URL:https://www.gardenhills.org/event/npu-b-monthly-meeting/2026-07-07/
LOCATION:Virtual
CATEGORIES:Neigborhood Planning Unit B
END:VEVENT
BEGIN:VEVENT
DTSTART;TZID=America/New_York:20260728T190000
DTEND;TZID=America/New_York:20260728T210000
DTSTAMP:20260424T040829
CREATED:20250531T140046Z
LAST-MODIFIED:20251124T201503Z
UID:10000179-1785265200-1785272400@www.gardenhills.org
SUMMARY:NPU-B Monthly Zoning Committee Meeting
DESCRIPTION:https://us06web.zoom.us/j/81221608330\nMeeting ID: 812 2160 8330\nDial-In 646-558-8656\nAccess code\, 81221608330#
URL:https://www.gardenhills.org/event/npu-b-monthly-zoning-committee-meeting/2026-07-28/
LOCATION:Virtual
CATEGORIES:Neigborhood Planning Unit B
END:VEVENT
BEGIN:VEVENT
DTSTART;TZID=America/New_York:20260804T190000
DTEND;TZID=America/New_York:20260804T210000
DTSTAMP:20260424T040829
CREATED:20250531T135822Z
LAST-MODIFIED:20250605T101026Z
UID:10000120-1785870000-1785877200@www.gardenhills.org
SUMMARY:NPU-B Monthly Meeting
DESCRIPTION:https://us06web.zoom.us/j/81221608330\nMeeting ID: 812 2160 8330\nDial-In 646-558-8656\nAccess code 81221608330
URL:https://www.gardenhills.org/event/npu-b-monthly-meeting/2026-08-04/
LOCATION:Virtual
CATEGORIES:Neigborhood Planning Unit B
END:VEVENT
BEGIN:VEVENT
DTSTART;TZID=America/New_York:20260825T190000
DTEND;TZID=America/New_York:20260825T210000
DTSTAMP:20260424T040829
CREATED:20250531T140046Z
LAST-MODIFIED:20251124T201503Z
UID:10000180-1787684400-1787691600@www.gardenhills.org
SUMMARY:NPU-B Monthly Zoning Committee Meeting
DESCRIPTION:https://us06web.zoom.us/j/81221608330\nMeeting ID: 812 2160 8330\nDial-In 646-558-8656\nAccess code\, 81221608330#
URL:https://www.gardenhills.org/event/npu-b-monthly-zoning-committee-meeting/2026-08-25/
LOCATION:Virtual
CATEGORIES:Neigborhood Planning Unit B
END:VEVENT
BEGIN:VEVENT
DTSTART;TZID=America/New_York:20260901T190000
DTEND;TZID=America/New_York:20260901T210000
DTSTAMP:20260424T040829
CREATED:20250531T135822Z
LAST-MODIFIED:20250605T101026Z
UID:10000121-1788289200-1788296400@www.gardenhills.org
SUMMARY:NPU-B Monthly Meeting
DESCRIPTION:https://us06web.zoom.us/j/81221608330\nMeeting ID: 812 2160 8330\nDial-In 646-558-8656\nAccess code 81221608330
URL:https://www.gardenhills.org/event/npu-b-monthly-meeting/2026-09-01/
LOCATION:Virtual
CATEGORIES:Neigborhood Planning Unit B
END:VEVENT
BEGIN:VEVENT
DTSTART;TZID=America/New_York:20260929T190000
DTEND;TZID=America/New_York:20260929T210000
DTSTAMP:20260424T040829
CREATED:20250531T140046Z
LAST-MODIFIED:20251124T201503Z
UID:10000181-1790708400-1790715600@www.gardenhills.org
SUMMARY:NPU-B Monthly Zoning Committee Meeting
DESCRIPTION:https://us06web.zoom.us/j/81221608330\nMeeting ID: 812 2160 8330\nDial-In 646-558-8656\nAccess code\, 81221608330#
URL:https://www.gardenhills.org/event/npu-b-monthly-zoning-committee-meeting/2026-09-29/
LOCATION:Virtual
CATEGORIES:Neigborhood Planning Unit B
END:VEVENT
BEGIN:VEVENT
DTSTART;TZID=America/New_York:20261006T190000
DTEND;TZID=America/New_York:20261006T210000
DTSTAMP:20260424T040829
CREATED:20250531T135822Z
LAST-MODIFIED:20250605T101026Z
UID:10000122-1791313200-1791320400@www.gardenhills.org
SUMMARY:NPU-B Monthly Meeting
DESCRIPTION:https://us06web.zoom.us/j/81221608330\nMeeting ID: 812 2160 8330\nDial-In 646-558-8656\nAccess code 81221608330
URL:https://www.gardenhills.org/event/npu-b-monthly-meeting/2026-10-06/
LOCATION:Virtual
CATEGORIES:Neigborhood Planning Unit B
END:VEVENT
BEGIN:VEVENT
DTSTART;TZID=America/New_York:20261027T190000
DTEND;TZID=America/New_York:20261027T210000
DTSTAMP:20260424T040829
CREATED:20250531T140046Z
LAST-MODIFIED:20251124T201503Z
UID:10000182-1793127600-1793134800@www.gardenhills.org
SUMMARY:NPU-B Monthly Zoning Committee Meeting
DESCRIPTION:https://us06web.zoom.us/j/81221608330\nMeeting ID: 812 2160 8330\nDial-In 646-558-8656\nAccess code\, 81221608330#
URL:https://www.gardenhills.org/event/npu-b-monthly-zoning-committee-meeting/2026-10-27/
LOCATION:Virtual
CATEGORIES:Neigborhood Planning Unit B
END:VEVENT
BEGIN:VEVENT
DTSTART;TZID=America/New_York:20261103T190000
DTEND;TZID=America/New_York:20261103T210000
DTSTAMP:20260424T040829
CREATED:20250531T135822Z
LAST-MODIFIED:20250605T101026Z
UID:10000123-1793732400-1793739600@www.gardenhills.org
SUMMARY:NPU-B Monthly Meeting
DESCRIPTION:https://us06web.zoom.us/j/81221608330\nMeeting ID: 812 2160 8330\nDial-In 646-558-8656\nAccess code 81221608330
URL:https://www.gardenhills.org/event/npu-b-monthly-meeting/2026-11-03/
LOCATION:Virtual
CATEGORIES:Neigborhood Planning Unit B
END:VEVENT
BEGIN:VEVENT
DTSTART;TZID=America/New_York:20261124T190000
DTEND;TZID=America/New_York:20261124T210000
DTSTAMP:20260424T040829
CREATED:20250531T140046Z
LAST-MODIFIED:20251124T201503Z
UID:10000183-1795546800-1795554000@www.gardenhills.org
SUMMARY:NPU-B Monthly Zoning Committee Meeting
DESCRIPTION:https://us06web.zoom.us/j/81221608330\nMeeting ID: 812 2160 8330\nDial-In 646-558-8656\nAccess code\, 81221608330#
URL:https://www.gardenhills.org/event/npu-b-monthly-zoning-committee-meeting/2026-11-24/
LOCATION:Virtual
CATEGORIES:Neigborhood Planning Unit B
END:VEVENT
BEGIN:VEVENT
DTSTART;TZID=America/New_York:20261201T190000
DTEND;TZID=America/New_York:20261201T210000
DTSTAMP:20260424T040829
CREATED:20250531T135822Z
LAST-MODIFIED:20250605T101026Z
UID:10000124-1796151600-1796158800@www.gardenhills.org
SUMMARY:NPU-B Monthly Meeting
DESCRIPTION:https://us06web.zoom.us/j/81221608330\nMeeting ID: 812 2160 8330\nDial-In 646-558-8656\nAccess code 81221608330
URL:https://www.gardenhills.org/event/npu-b-monthly-meeting/2026-12-01/
LOCATION:Virtual
CATEGORIES:Neigborhood Planning Unit B
END:VEVENT
BEGIN:VEVENT
DTSTART;TZID=America/New_York:20261229T190000
DTEND;TZID=America/New_York:20261229T210000
DTSTAMP:20260424T040829
CREATED:20250531T140046Z
LAST-MODIFIED:20251124T201503Z
UID:10000184-1798570800-1798578000@www.gardenhills.org
SUMMARY:NPU-B Monthly Zoning Committee Meeting
DESCRIPTION:https://us06web.zoom.us/j/81221608330\nMeeting ID: 812 2160 8330\nDial-In 646-558-8656\nAccess code\, 81221608330#
URL:https://www.gardenhills.org/event/npu-b-monthly-zoning-committee-meeting/2026-12-29/
LOCATION:Virtual
CATEGORIES:Neigborhood Planning Unit B
END:VEVENT
BEGIN:VEVENT
DTSTART;TZID=America/New_York:20270105T190000
DTEND;TZID=America/New_York:20270105T210000
DTSTAMP:20260424T040830
CREATED:20250531T135822Z
LAST-MODIFIED:20250605T101026Z
UID:10000125-1799175600-1799182800@www.gardenhills.org
SUMMARY:NPU-B Monthly Meeting
DESCRIPTION:https://us06web.zoom.us/j/81221608330\nMeeting ID: 812 2160 8330\nDial-In 646-558-8656\nAccess code 81221608330
URL:https://www.gardenhills.org/event/npu-b-monthly-meeting/2027-01-05/
LOCATION:Virtual
CATEGORIES:Neigborhood Planning Unit B
END:VEVENT
BEGIN:VEVENT
DTSTART;TZID=America/New_York:20270126T190000
DTEND;TZID=America/New_York:20270126T210000
DTSTAMP:20260424T040830
CREATED:20250531T140046Z
LAST-MODIFIED:20251124T201503Z
UID:10000185-1800990000-1800997200@www.gardenhills.org
SUMMARY:NPU-B Monthly Zoning Committee Meeting
DESCRIPTION:https://us06web.zoom.us/j/81221608330\nMeeting ID: 812 2160 8330\nDial-In 646-558-8656\nAccess code\, 81221608330#
URL:https://www.gardenhills.org/event/npu-b-monthly-zoning-committee-meeting/2027-01-26/
LOCATION:Virtual
CATEGORIES:Neigborhood Planning Unit B
END:VEVENT
BEGIN:VEVENT
DTSTART;TZID=America/New_York:20270202T190000
DTEND;TZID=America/New_York:20270202T210000
DTSTAMP:20260424T040830
CREATED:20250531T135822Z
LAST-MODIFIED:20250605T101026Z
UID:10000126-1801594800-1801602000@www.gardenhills.org
SUMMARY:NPU-B Monthly Meeting
DESCRIPTION:https://us06web.zoom.us/j/81221608330\nMeeting ID: 812 2160 8330\nDial-In 646-558-8656\nAccess code 81221608330
URL:https://www.gardenhills.org/event/npu-b-monthly-meeting/2027-02-02/
LOCATION:Virtual
CATEGORIES:Neigborhood Planning Unit B
END:VEVENT
BEGIN:VEVENT
DTSTART;TZID=America/New_York:20270223T190000
DTEND;TZID=America/New_York:20270223T210000
DTSTAMP:20260424T040830
CREATED:20250531T140046Z
LAST-MODIFIED:20251124T201503Z
UID:10000186-1803409200-1803416400@www.gardenhills.org
SUMMARY:NPU-B Monthly Zoning Committee Meeting
DESCRIPTION:https://us06web.zoom.us/j/81221608330\nMeeting ID: 812 2160 8330\nDial-In 646-558-8656\nAccess code\, 81221608330#
URL:https://www.gardenhills.org/event/npu-b-monthly-zoning-committee-meeting/2027-02-23/
LOCATION:Virtual
CATEGORIES:Neigborhood Planning Unit B
END:VEVENT
BEGIN:VEVENT
DTSTART;TZID=America/New_York:20270302T190000
DTEND;TZID=America/New_York:20270302T210000
DTSTAMP:20260424T040830
CREATED:20250531T135822Z
LAST-MODIFIED:20250605T101026Z
UID:10000127-1804014000-1804021200@www.gardenhills.org
SUMMARY:NPU-B Monthly Meeting
DESCRIPTION:https://us06web.zoom.us/j/81221608330\nMeeting ID: 812 2160 8330\nDial-In 646-558-8656\nAccess code 81221608330
URL:https://www.gardenhills.org/event/npu-b-monthly-meeting/2027-03-02/
LOCATION:Virtual
CATEGORIES:Neigborhood Planning Unit B
END:VEVENT
BEGIN:VEVENT
DTSTART;TZID=America/New_York:20270330T190000
DTEND;TZID=America/New_York:20270330T210000
DTSTAMP:20260424T040830
CREATED:20250531T140046Z
LAST-MODIFIED:20251124T201503Z
UID:10000187-1806433200-1806440400@www.gardenhills.org
SUMMARY:NPU-B Monthly Zoning Committee Meeting
DESCRIPTION:https://us06web.zoom.us/j/81221608330\nMeeting ID: 812 2160 8330\nDial-In 646-558-8656\nAccess code\, 81221608330#
URL:https://www.gardenhills.org/event/npu-b-monthly-zoning-committee-meeting/2027-03-30/
LOCATION:Virtual
CATEGORIES:Neigborhood Planning Unit B
END:VEVENT
BEGIN:VEVENT
DTSTART;TZID=America/New_York:20270406T190000
DTEND;TZID=America/New_York:20270406T210000
DTSTAMP:20260424T040830
CREATED:20250531T135822Z
LAST-MODIFIED:20250605T101026Z
UID:10000128-1807038000-1807045200@www.gardenhills.org
SUMMARY:NPU-B Monthly Meeting
DESCRIPTION:https://us06web.zoom.us/j/81221608330\nMeeting ID: 812 2160 8330\nDial-In 646-558-8656\nAccess code 81221608330
URL:https://www.gardenhills.org/event/npu-b-monthly-meeting/2027-04-06/
LOCATION:Virtual
CATEGORIES:Neigborhood Planning Unit B
END:VEVENT
BEGIN:VEVENT
DTSTART;TZID=America/New_York:20270427T190000
DTEND;TZID=America/New_York:20270427T210000
DTSTAMP:20260424T040830
CREATED:20250531T140046Z
LAST-MODIFIED:20251124T201503Z
UID:10000188-1808852400-1808859600@www.gardenhills.org
SUMMARY:NPU-B Monthly Zoning Committee Meeting
DESCRIPTION:https://us06web.zoom.us/j/81221608330\nMeeting ID: 812 2160 8330\nDial-In 646-558-8656\nAccess code\, 81221608330#
URL:https://www.gardenhills.org/event/npu-b-monthly-zoning-committee-meeting/2027-04-27/
LOCATION:Virtual
CATEGORIES:Neigborhood Planning Unit B
END:VEVENT
BEGIN:VEVENT
DTSTART;TZID=America/New_York:20270504T190000
DTEND;TZID=America/New_York:20270504T210000
DTSTAMP:20260424T040830
CREATED:20250531T135822Z
LAST-MODIFIED:20250605T101026Z
UID:10000129-1809457200-1809464400@www.gardenhills.org
SUMMARY:NPU-B Monthly Meeting
DESCRIPTION:https://us06web.zoom.us/j/81221608330\nMeeting ID: 812 2160 8330\nDial-In 646-558-8656\nAccess code 81221608330
URL:https://www.gardenhills.org/event/npu-b-monthly-meeting/2027-05-04/
LOCATION:Virtual
CATEGORIES:Neigborhood Planning Unit B
END:VEVENT
BEGIN:VEVENT
DTSTART;TZID=America/New_York:20270525T190000
DTEND;TZID=America/New_York:20270525T210000
DTSTAMP:20260424T040830
CREATED:20250531T140046Z
LAST-MODIFIED:20251124T201503Z
UID:10000189-1811271600-1811278800@www.gardenhills.org
SUMMARY:NPU-B Monthly Zoning Committee Meeting
DESCRIPTION:https://us06web.zoom.us/j/81221608330\nMeeting ID: 812 2160 8330\nDial-In 646-558-8656\nAccess code\, 81221608330#
URL:https://www.gardenhills.org/event/npu-b-monthly-zoning-committee-meeting/2027-05-25/
LOCATION:Virtual
CATEGORIES:Neigborhood Planning Unit B
END:VEVENT
BEGIN:VEVENT
DTSTART;TZID=America/New_York:20270601T190000
DTEND;TZID=America/New_York:20270601T210000
DTSTAMP:20260424T040830
CREATED:20250531T135822Z
LAST-MODIFIED:20250605T101026Z
UID:10000130-1811876400-1811883600@www.gardenhills.org
SUMMARY:NPU-B Monthly Meeting
DESCRIPTION:https://us06web.zoom.us/j/81221608330\nMeeting ID: 812 2160 8330\nDial-In 646-558-8656\nAccess code 81221608330
URL:https://www.gardenhills.org/event/npu-b-monthly-meeting/2027-06-01/
LOCATION:Virtual
CATEGORIES:Neigborhood Planning Unit B
END:VEVENT
BEGIN:VEVENT
DTSTART;TZID=America/New_York:20270629T190000
DTEND;TZID=America/New_York:20270629T210000
DTSTAMP:20260424T040830
CREATED:20250531T140046Z
LAST-MODIFIED:20251124T201503Z
UID:10000190-1814295600-1814302800@www.gardenhills.org
SUMMARY:NPU-B Monthly Zoning Committee Meeting
DESCRIPTION:https://us06web.zoom.us/j/81221608330\nMeeting ID: 812 2160 8330\nDial-In 646-558-8656\nAccess code\, 81221608330#
URL:https://www.gardenhills.org/event/npu-b-monthly-zoning-committee-meeting/2027-06-29/
LOCATION:Virtual
CATEGORIES:Neigborhood Planning Unit B
END:VEVENT
BEGIN:VEVENT
DTSTART;TZID=America/New_York:20270706T190000
DTEND;TZID=America/New_York:20270706T210000
DTSTAMP:20260424T040830
CREATED:20250531T135822Z
LAST-MODIFIED:20250605T101026Z
UID:10000131-1814900400-1814907600@www.gardenhills.org
SUMMARY:NPU-B Monthly Meeting
DESCRIPTION:https://us06web.zoom.us/j/81221608330\nMeeting ID: 812 2160 8330\nDial-In 646-558-8656\nAccess code 81221608330
URL:https://www.gardenhills.org/event/npu-b-monthly-meeting/2027-07-06/
LOCATION:Virtual
CATEGORIES:Neigborhood Planning Unit B
END:VEVENT
END:VCALENDAR