BEGIN:VCALENDAR
VERSION:2.0
PRODID:-//Beautiful Garden Hills - ECPv6.15.20//NONSGML v1.0//EN
CALSCALE:GREGORIAN
METHOD:PUBLISH
X-WR-CALNAME:Beautiful Garden Hills
X-ORIGINAL-URL:https://www.gardenhills.org
X-WR-CALDESC:Events for Beautiful Garden Hills
REFRESH-INTERVAL;VALUE=DURATION:PT1H
X-Robots-Tag:noindex
X-PUBLISHED-TTL:PT1H
BEGIN:VTIMEZONE
TZID:America/New_York
BEGIN:DAYLIGHT
TZOFFSETFROM:-0500
TZOFFSETTO:-0400
TZNAME:EDT
DTSTART:20230312T070000
END:DAYLIGHT
BEGIN:STANDARD
TZOFFSETFROM:-0400
TZOFFSETTO:-0500
TZNAME:EST
DTSTART:20231105T060000
END:STANDARD
BEGIN:DAYLIGHT
TZOFFSETFROM:-0500
TZOFFSETTO:-0400
TZNAME:EDT
DTSTART:20240310T070000
END:DAYLIGHT
BEGIN:STANDARD
TZOFFSETFROM:-0400
TZOFFSETTO:-0500
TZNAME:EST
DTSTART:20241103T060000
END:STANDARD
BEGIN:DAYLIGHT
TZOFFSETFROM:-0500
TZOFFSETTO:-0400
TZNAME:EDT
DTSTART:20250309T070000
END:DAYLIGHT
BEGIN:STANDARD
TZOFFSETFROM:-0400
TZOFFSETTO:-0500
TZNAME:EST
DTSTART:20251102T060000
END:STANDARD
BEGIN:DAYLIGHT
TZOFFSETFROM:-0500
TZOFFSETTO:-0400
TZNAME:EDT
DTSTART:20260308T070000
END:DAYLIGHT
BEGIN:STANDARD
TZOFFSETFROM:-0400
TZOFFSETTO:-0500
TZNAME:EST
DTSTART:20261101T060000
END:STANDARD
BEGIN:DAYLIGHT
TZOFFSETFROM:-0500
TZOFFSETTO:-0400
TZNAME:EDT
DTSTART:20270314T070000
END:DAYLIGHT
BEGIN:STANDARD
TZOFFSETFROM:-0400
TZOFFSETTO:-0500
TZNAME:EST
DTSTART:20271107T060000
END:STANDARD
END:VTIMEZONE
BEGIN:VEVENT
DTSTART;TZID=America/New_York:20260413T190000
DTEND;TZID=America/New_York:20260413T203000
DTSTAMP:20260419T222435
CREATED:20241111T182802Z
LAST-MODIFIED:20260311T163222Z
UID:10000288-1776106800-1776112200@www.gardenhills.org
SUMMARY:GHCA Board Meeting
DESCRIPTION:
URL:https://www.gardenhills.org/event/ghca-board-meeting/2026-04-13/
LOCATION:Garden Hills Recreation Center\, 339 Pine Tree Dr NE\, Atlanta\, GA\, 30305\, United States
END:VEVENT
BEGIN:VEVENT
DTSTART;TZID=America/New_York:20260331T190000
DTEND;TZID=America/New_York:20260331T203000
DTSTAMP:20260419T222435
CREATED:20241111T183125Z
LAST-MODIFIED:20260311T162422Z
UID:10000283-1774983600-1774989000@www.gardenhills.org
SUMMARY:GHCA Annual Members' Meeting
DESCRIPTION:
URL:https://www.gardenhills.org/event/ghca-annual-members-meeting/2026-03-31/
LOCATION:Garden Hills Recreation Center\, 339 Pine Tree Dr NE\, Atlanta\, GA\, 30305\, United States
END:VEVENT
BEGIN:VEVENT
DTSTART;TZID=America/New_York:20260209T190000
DTEND;TZID=America/New_York:20260209T203000
DTSTAMP:20260419T222435
CREATED:20241111T182802Z
LAST-MODIFIED:20260311T163222Z
UID:10000287-1770663600-1770669000@www.gardenhills.org
SUMMARY:GHCA Board Meeting
DESCRIPTION:
URL:https://www.gardenhills.org/event/ghca-board-meeting/2026-02-09/
LOCATION:Garden Hills Recreation Center\, 339 Pine Tree Dr NE\, Atlanta\, GA\, 30305\, United States
END:VEVENT
BEGIN:VEVENT
DTSTART;TZID=America/New_York:20260124T080000
DTEND;TZID=America/New_York:20260124T100000
DTSTAMP:20260419T222435
CREATED:20250627T133244Z
LAST-MODIFIED:20250627T133726Z
UID:10000237-1769241600-1769248800@www.gardenhills.org
SUMMARY:Garden Hills Pancake Breakfast
DESCRIPTION:
URL:https://www.gardenhills.org/event/garden-hills-pancake-breakfast/
LOCATION:Garden Hills Recreation Center\, 339 Pine Tree Dr NE\, Atlanta\, GA\, 30305\, United States
CATEGORIES:Garden Hills Civic Association
END:VEVENT
BEGIN:VEVENT
DTSTART;TZID=America/New_York:20251208T190000
DTEND;TZID=America/New_York:20251208T203000
DTSTAMP:20260419T222435
CREATED:20241111T182802Z
LAST-MODIFIED:20260311T163222Z
UID:10000286-1765220400-1765225800@www.gardenhills.org
SUMMARY:GHCA Board Meeting
DESCRIPTION:
URL:https://www.gardenhills.org/event/ghca-board-meeting/2025-12-08/
LOCATION:Garden Hills Recreation Center\, 339 Pine Tree Dr NE\, Atlanta\, GA\, 30305\, United States
END:VEVENT
BEGIN:VEVENT
DTSTART;TZID=America/New_York:20251024T173000
DTEND;TZID=America/New_York:20251024T210000
DTSTAMP:20260419T222435
CREATED:20251005T122220Z
LAST-MODIFIED:20251014T194604Z
UID:10000258-1761327000-1761339600@www.gardenhills.org
SUMMARY:Centennial in the Streets Celebration
DESCRIPTION:Join the Garden Hills Civic Association at Sunnybrook Park and the Garden Hills Rec Center for an evening of live music\, BBQ\, and fun on October 24\, 2025 from 5:30 – 9:00 PM. \n— \nThe GHCA is bringing you not one but two special events to celebrate the centennial! \nTo be held between the Garden Hills Rec Center and Sunnybrook Park\, this event will be a fun excuse to gather together in the fall weather. It will be a kickoff street party celebration that we hope to repeat for years to come! You can expect: \n\nDas BBQ 🍖 – Preordering preferred (see link here and below)\nKing of Pops 🍧\nA fun neighborly atmosphere for the whole family 🥳\nBYO chairs 🪑🪑 to listen to the band\nBYO drinks: we’ll have some iced tea\, water\, and a keg (with donation) available until everything runs out\nLive Music from Hot Larry 🎸 (see more info here and below)\n\nLive Music \nThe live band is “Hot Larry” with none other than Pool board president and Garden Hills resident\, Jason Holland. For more details\, click here. \nVolunteers Needed \nThe GHCA Social Committee is looking for volunteers to help with this special event. It has created a SignupGenius\, which you can access here. Please sign up if you are able to help! Contact Amber Mendoza-Singh at 917-379-2240 with any questions. \nDon’t Forget to Pre-Order Your BBQ \nPre-order Das BBQ here. \n\nAdult plate\, $20 – Includes 2 meats (pulled pork\, smoked chicken)\, 2 sides (mac & cheese\, coleslaw) & 1 roll\nKid’s plate\, $12 – Includes 1 meat (pulled pork or smoked chicken)\, 1 side (mac & cheese or coleslaw) & 1 roll\n\n 
URL:https://www.gardenhills.org/event/centennial-in-the-streets/
LOCATION:Garden Hills Recreation Center\, 339 Pine Tree Dr NE\, Atlanta\, GA\, 30305\, United States
CATEGORIES:Committees,Garden Hills Civic Association,Social
END:VEVENT
BEGIN:VEVENT
DTSTART;TZID=America/New_York:20251020T190000
DTEND;TZID=America/New_York:20251020T203000
DTSTAMP:20260419T222435
CREATED:20241111T182802Z
LAST-MODIFIED:20260311T163222Z
UID:10000285-1760986800-1760992200@www.gardenhills.org
SUMMARY:GHCA Board Meeting
DESCRIPTION:
URL:https://www.gardenhills.org/event/ghca-board-meeting/2025-10-20/
LOCATION:Garden Hills Recreation Center\, 339 Pine Tree Dr NE\, Atlanta\, GA\, 30305\, United States
END:VEVENT
BEGIN:VEVENT
DTSTART;TZID=America/New_York:20250811T190000
DTEND;TZID=America/New_York:20250811T203000
DTSTAMP:20260419T222435
CREATED:20241111T182802Z
LAST-MODIFIED:20260311T163222Z
UID:10000284-1754938800-1754944200@www.gardenhills.org
SUMMARY:GHCA Board Meeting
DESCRIPTION:
URL:https://www.gardenhills.org/event/ghca-board-meeting/2025-08-11/
LOCATION:Garden Hills Recreation Center\, 339 Pine Tree Dr NE\, Atlanta\, GA\, 30305\, United States
END:VEVENT
BEGIN:VEVENT
DTSTART;TZID=America/New_York:20250623T190000
DTEND;TZID=America/New_York:20250623T203000
DTSTAMP:20260419T222435
CREATED:20241111T182802Z
LAST-MODIFIED:20260311T163222Z
UID:10000229-1750705200-1750710600@www.gardenhills.org
SUMMARY:GHCA Board Meeting
DESCRIPTION:
URL:https://www.gardenhills.org/event/ghca-board-meeting/2025-06-23/
LOCATION:Garden Hills Recreation Center\, 339 Pine Tree Dr NE\, Atlanta\, GA\, 30305\, United States
END:VEVENT
BEGIN:VEVENT
DTSTART;TZID=America/New_York:20250415T190000
DTEND;TZID=America/New_York:20250415T203000
DTSTAMP:20260419T222435
CREATED:20241111T182802Z
LAST-MODIFIED:20260311T163222Z
UID:10000018-1744743600-1744749000@www.gardenhills.org
SUMMARY:GHCA Board Meeting
DESCRIPTION:
URL:https://www.gardenhills.org/event/ghca-board-meeting/2025-04-15/
LOCATION:Garden Hills Recreation Center\, 339 Pine Tree Dr NE\, Atlanta\, GA\, 30305\, United States
END:VEVENT
BEGIN:VEVENT
DTSTART;TZID=America/New_York:20250401T190000
DTEND;TZID=America/New_York:20250401T203000
DTSTAMP:20260419T222435
CREATED:20241111T183125Z
LAST-MODIFIED:20260311T162422Z
UID:10000015-1743534000-1743539400@www.gardenhills.org
SUMMARY:GHCA Annual Members' Meeting
DESCRIPTION:
URL:https://www.gardenhills.org/event/ghca-annual-members-meeting/2025-04-01/
LOCATION:Garden Hills Recreation Center\, 339 Pine Tree Dr NE\, Atlanta\, GA\, 30305\, United States
END:VEVENT
BEGIN:VEVENT
DTSTART;TZID=America/New_York:20250114T190000
DTEND;TZID=America/New_York:20250114T203000
DTSTAMP:20260419T222436
CREATED:20241111T182802Z
LAST-MODIFIED:20260311T163222Z
UID:10000013-1736881200-1736886600@www.gardenhills.org
SUMMARY:GHCA Board Meeting
DESCRIPTION:
URL:https://www.gardenhills.org/event/ghca-board-meeting/2025-01-14/
LOCATION:Garden Hills Recreation Center\, 339 Pine Tree Dr NE\, Atlanta\, GA\, 30305\, United States
END:VEVENT
BEGIN:VEVENT
DTSTART;TZID=America/New_York:20241112T190000
DTEND;TZID=America/New_York:20241112T203000
DTSTAMP:20260419T222436
CREATED:20241111T182802Z
LAST-MODIFIED:20260311T163222Z
UID:10000012-1731438000-1731443400@www.gardenhills.org
SUMMARY:GHCA Board Meeting
DESCRIPTION:
URL:https://www.gardenhills.org/event/ghca-board-meeting/2024-11-12/
LOCATION:Garden Hills Recreation Center\, 339 Pine Tree Dr NE\, Atlanta\, GA\, 30305\, United States
END:VEVENT
END:VCALENDAR