BEGIN:VCALENDAR
VERSION:2.0
PRODID:-//Beautiful Garden Hills - ECPv6.15.20//NONSGML v1.0//EN
CALSCALE:GREGORIAN
METHOD:PUBLISH
X-ORIGINAL-URL:https://www.gardenhills.org
X-WR-CALDESC:Events for Beautiful Garden Hills
REFRESH-INTERVAL;VALUE=DURATION:PT1H
X-Robots-Tag:noindex
X-PUBLISHED-TTL:PT1H
BEGIN:VTIMEZONE
TZID:America/New_York
BEGIN:DAYLIGHT
TZOFFSETFROM:-0500
TZOFFSETTO:-0400
TZNAME:EDT
DTSTART:20230312T070000
END:DAYLIGHT
BEGIN:STANDARD
TZOFFSETFROM:-0400
TZOFFSETTO:-0500
TZNAME:EST
DTSTART:20231105T060000
END:STANDARD
BEGIN:DAYLIGHT
TZOFFSETFROM:-0500
TZOFFSETTO:-0400
TZNAME:EDT
DTSTART:20240310T070000
END:DAYLIGHT
BEGIN:STANDARD
TZOFFSETFROM:-0400
TZOFFSETTO:-0500
TZNAME:EST
DTSTART:20241103T060000
END:STANDARD
BEGIN:DAYLIGHT
TZOFFSETFROM:-0500
TZOFFSETTO:-0400
TZNAME:EDT
DTSTART:20250309T070000
END:DAYLIGHT
BEGIN:STANDARD
TZOFFSETFROM:-0400
TZOFFSETTO:-0500
TZNAME:EST
DTSTART:20251102T060000
END:STANDARD
BEGIN:DAYLIGHT
TZOFFSETFROM:-0500
TZOFFSETTO:-0400
TZNAME:EDT
DTSTART:20260308T070000
END:DAYLIGHT
BEGIN:STANDARD
TZOFFSETFROM:-0400
TZOFFSETTO:-0500
TZNAME:EST
DTSTART:20261101T060000
END:STANDARD
END:VTIMEZONE
BEGIN:VEVENT
DTSTART;TZID=America/New_York:20251206T110000
DTEND;TZID=America/New_York:20251206T160000
DTSTAMP:20260424T130925
CREATED:20251108T192101Z
LAST-MODIFIED:20251108T192218Z
UID:10000270-1765018800-1765036800@www.gardenhills.org
SUMMARY:AIS German Christmas Market
DESCRIPTION:Mark your calendars for a Buckhead holiday favorite — the AIS German Christmas Market! \nSaturday\, December 6th\n11:00 a.m. – 4:00 p.m.\n2890 N. Fulton Drive NE \nEnjoy delicious German treats (Bratwurst\, Glühwein\, Crepes\, Candied Almonds\, German Soups\, and more)\, shop local vendors\, stock up on holiday decor\, and soak up the cozy Christmas spirit. Children can also get into the festive fun with candle dipping\, German crafts\, and holiday face painting. \nAnd\, our holiday music\, performances\, and carols provide for the perfect way to kick off the season!
URL:https://www.gardenhills.org/event/ais-german-christmas-market/
LOCATION:Atlanta International School\, 2890 N Fulton Dr NE\, Atlanta\, 30305\, United States
ORGANIZER;CN="AIS Parent Organization (PO)":MAILTO:pomarketing@aischool.org
END:VEVENT
BEGIN:VEVENT
DTSTART;TZID=America/New_York:20251026T123000
DTEND;TZID=America/New_York:20251026T163000
DTSTAMP:20260424T130925
CREATED:20250602T180238Z
LAST-MODIFIED:20251023T161210Z
UID:10000226-1761481800-1761496200@www.gardenhills.org
SUMMARY:AIS Worldfest
DESCRIPTION:We are looking forward to celebrating AIS Worldfest 2025 on Sunday\, October 26th from 12:30 – 4:30pm. \nThis year’s event will feature food and culture from 30+ countries\, a fantastic line up of entertainment and fun activities for kids. We are loving that AIS is celebrating it’s 40th Anniversary this year and Worldfest is all about it! \nFor further information and updates on the event\, make sure you continue to check this site; more details will be posted as we get closer to the exciting day. \nWorldfest is a massive group effort and we can’t do this without our wonderful AIS Community! \nLearn more at https://aisworldfest.org/
URL:https://www.gardenhills.org/event/ais-worldfest/
LOCATION:Atlanta International School\, 2890 N Fulton Dr NE\, Atlanta\, 30305\, United States
CATEGORIES:Atlanta International School
END:VEVENT
BEGIN:VEVENT
DTSTART;TZID=America/New_York:20241026T190000
DTEND;TZID=America/New_York:20241026T230000
DTSTAMP:20260424T130925
CREATED:20240515T220710Z
LAST-MODIFIED:20250519T163540Z
UID:10000009-1729969200-1729983600@www.gardenhills.org
SUMMARY:[Foundation] Annual Gala - Casino Night
DESCRIPTION:Announcing our 2024 Casino Night at the Garden Hills Gala! \nThe Garden Hills Neighborhood Foundation (501(c)(3)) is thrilled to announce the return of the Garden Hills Gala on October 26\, 7pm at Atlanta International School. We will enjoy fun casino games\, food from some of the best restaurants in Buckhead\, music\, and a full\, open bar. This wonderful evening with friends and neighbors raises money for projects that improve the safety and beauty of the Garden Hills Neighborhood. Space is limited so buy your tickets now!
URL:https://www.gardenhills.org/event/ghnf-2024-gala/
LOCATION:Atlanta International School\, 2890 N Fulton Dr NE\, Atlanta\, 30305\, United States
END:VEVENT
END:VCALENDAR