BEGIN:VCALENDAR
VERSION:2.0
PRODID:-//Beautiful Garden Hills - ECPv6.15.20//NONSGML v1.0//EN
CALSCALE:GREGORIAN
METHOD:PUBLISH
X-WR-CALNAME:Beautiful Garden Hills
X-ORIGINAL-URL:https://www.gardenhills.org
X-WR-CALDESC:Events for Beautiful Garden Hills
REFRESH-INTERVAL;VALUE=DURATION:PT1H
X-Robots-Tag:noindex
X-PUBLISHED-TTL:PT1H
BEGIN:VTIMEZONE
TZID:America/New_York
BEGIN:DAYLIGHT
TZOFFSETFROM:-0500
TZOFFSETTO:-0400
TZNAME:EDT
DTSTART:20240310T070000
END:DAYLIGHT
BEGIN:STANDARD
TZOFFSETFROM:-0400
TZOFFSETTO:-0500
TZNAME:EST
DTSTART:20241103T060000
END:STANDARD
BEGIN:DAYLIGHT
TZOFFSETFROM:-0500
TZOFFSETTO:-0400
TZNAME:EDT
DTSTART:20250309T070000
END:DAYLIGHT
BEGIN:STANDARD
TZOFFSETFROM:-0400
TZOFFSETTO:-0500
TZNAME:EST
DTSTART:20251102T060000
END:STANDARD
BEGIN:DAYLIGHT
TZOFFSETFROM:-0500
TZOFFSETTO:-0400
TZNAME:EDT
DTSTART:20260308T070000
END:DAYLIGHT
BEGIN:STANDARD
TZOFFSETFROM:-0400
TZOFFSETTO:-0500
TZNAME:EST
DTSTART:20261101T060000
END:STANDARD
END:VTIMEZONE
BEGIN:VEVENT
DTSTART;TZID=America/New_York:20251116T110000
DTEND;TZID=America/New_York:20251116T160000
DTSTAMP:20260419T202203
CREATED:20251108T191320Z
LAST-MODIFIED:20251108T192253Z
UID:10000269-1763290800-1763308800@www.gardenhills.org
SUMMARY:South Buckhead Friends Tour of Homes
DESCRIPTION:Introducing the inaugural South Buckhead Friends Tour of Homes benefiting Children’s Healthcare of Atlanta! \nYou are invited to join us on Sunday\, November 16 from 11:00 AM to 4:00 PM for an inspiring afternoon of five home tours in some of Buckhead’s most beloved neighborhoods — with 100% of proceeds benefiting Children’s Healthcare of Atlanta. Enjoy an exclusive look inside the curated selection homes on tour\, including notable interior designers and tastemakers\, while supporting a meaningful cause. \nTo make a donation\, click here. \nWhen\nSunday\, November 16 from 11:00 AM to 4:00 PM. \nLocation\nSouth Buckhead Neighborhood \n\nTickets\nSponsorship Guide\nSponsorship Registration\nSouth Buckhead Friends of CHOA\n\n 
URL:https://www.gardenhills.org/event/south-buckhead-friends-tour-of-homes/
LOCATION:RSVP for Location\, Atlanta\, 30305\, United States
ORGANIZER;CN="South Buckhead Friends of CHOA":MAILTO:melissa@morrisfuller.com
END:VEVENT
END:VCALENDAR