BEGIN:VCALENDAR
VERSION:2.0
PRODID:-//Beautiful Garden Hills - ECPv6.15.20//NONSGML v1.0//EN
CALSCALE:GREGORIAN
METHOD:PUBLISH
X-WR-CALNAME:Beautiful Garden Hills
X-ORIGINAL-URL:https://www.gardenhills.org
X-WR-CALDESC:Events for Beautiful Garden Hills
REFRESH-INTERVAL;VALUE=DURATION:PT1H
X-Robots-Tag:noindex
X-PUBLISHED-TTL:PT1H
BEGIN:VTIMEZONE
TZID:America/New_York
BEGIN:DAYLIGHT
TZOFFSETFROM:-0500
TZOFFSETTO:-0400
TZNAME:EDT
DTSTART:20290311T070000
END:DAYLIGHT
BEGIN:STANDARD
TZOFFSETFROM:-0400
TZOFFSETTO:-0500
TZNAME:EST
DTSTART:20291104T060000
END:STANDARD
BEGIN:DAYLIGHT
TZOFFSETFROM:-0500
TZOFFSETTO:-0400
TZNAME:EDT
DTSTART:20300310T070000
END:DAYLIGHT
BEGIN:STANDARD
TZOFFSETFROM:-0400
TZOFFSETTO:-0500
TZNAME:EST
DTSTART:20301103T060000
END:STANDARD
BEGIN:DAYLIGHT
TZOFFSETFROM:-0500
TZOFFSETTO:-0400
TZNAME:EDT
DTSTART:20310309T070000
END:DAYLIGHT
BEGIN:STANDARD
TZOFFSETFROM:-0400
TZOFFSETTO:-0500
TZNAME:EST
DTSTART:20311102T060000
END:STANDARD
END:VTIMEZONE
BEGIN:VEVENT
DTSTART;TZID=America/New_York:20300430T190000
DTEND;TZID=America/New_York:20300430T210000
DTSTAMP:20260424T111546
CREATED:20250531T140046Z
LAST-MODIFIED:20251124T201503Z
UID:10000224-1903806000-1903813200@www.gardenhills.org
SUMMARY:NPU-B Monthly Zoning Committee Meeting
DESCRIPTION:https://us06web.zoom.us/j/81221608330\nMeeting ID: 812 2160 8330\nDial-In 646-558-8656\nAccess code\, 81221608330#
URL:https://www.gardenhills.org/event/npu-b-monthly-zoning-committee-meeting/2030-04-30/
LOCATION:Virtual
CATEGORIES:Neigborhood Planning Unit B
END:VEVENT
BEGIN:VEVENT
DTSTART;TZID=America/New_York:20300528T190000
DTEND;TZID=America/New_York:20300528T210000
DTSTAMP:20260424T111546
CREATED:20250531T140046Z
LAST-MODIFIED:20251124T201503Z
UID:10000225-1906225200-1906232400@www.gardenhills.org
SUMMARY:NPU-B Monthly Zoning Committee Meeting
DESCRIPTION:https://us06web.zoom.us/j/81221608330\nMeeting ID: 812 2160 8330\nDial-In 646-558-8656\nAccess code\, 81221608330#
URL:https://www.gardenhills.org/event/npu-b-monthly-zoning-committee-meeting/2030-05-28/
LOCATION:Virtual
CATEGORIES:Neigborhood Planning Unit B
END:VEVENT
BEGIN:VEVENT
DTSTART;TZID=America/New_York:20300625T190000
DTEND;TZID=America/New_York:20300625T210000
DTSTAMP:20260424T111546
CREATED:20250531T140046Z
LAST-MODIFIED:20251124T201503Z
UID:10000272-1908644400-1908651600@www.gardenhills.org
SUMMARY:NPU-B Monthly Zoning Committee Meeting
DESCRIPTION:https://us06web.zoom.us/j/81221608330\nMeeting ID: 812 2160 8330\nDial-In 646-558-8656\nAccess code\, 81221608330#
URL:https://www.gardenhills.org/event/npu-b-monthly-zoning-committee-meeting/2030-06-25/
LOCATION:Virtual
CATEGORIES:Neigborhood Planning Unit B
END:VEVENT
BEGIN:VEVENT
DTSTART;TZID=America/New_York:20300730T190000
DTEND;TZID=America/New_York:20300730T210000
DTSTAMP:20260424T111546
CREATED:20250531T140046Z
LAST-MODIFIED:20251124T201503Z
UID:10000273-1911668400-1911675600@www.gardenhills.org
SUMMARY:NPU-B Monthly Zoning Committee Meeting
DESCRIPTION:https://us06web.zoom.us/j/81221608330\nMeeting ID: 812 2160 8330\nDial-In 646-558-8656\nAccess code\, 81221608330#
URL:https://www.gardenhills.org/event/npu-b-monthly-zoning-committee-meeting/2030-07-30/
LOCATION:Virtual
CATEGORIES:Neigborhood Planning Unit B
END:VEVENT
BEGIN:VEVENT
DTSTART;TZID=America/New_York:20300827T190000
DTEND;TZID=America/New_York:20300827T210000
DTSTAMP:20260424T111546
CREATED:20250531T140046Z
LAST-MODIFIED:20251124T201503Z
UID:10000274-1914087600-1914094800@www.gardenhills.org
SUMMARY:NPU-B Monthly Zoning Committee Meeting
DESCRIPTION:https://us06web.zoom.us/j/81221608330\nMeeting ID: 812 2160 8330\nDial-In 646-558-8656\nAccess code\, 81221608330#
URL:https://www.gardenhills.org/event/npu-b-monthly-zoning-committee-meeting/2030-08-27/
LOCATION:Virtual
CATEGORIES:Neigborhood Planning Unit B
END:VEVENT
BEGIN:VEVENT
DTSTART;TZID=America/New_York:20300924T190000
DTEND;TZID=America/New_York:20300924T210000
DTSTAMP:20260424T111546
CREATED:20250531T140046Z
LAST-MODIFIED:20251124T201503Z
UID:10000275-1916506800-1916514000@www.gardenhills.org
SUMMARY:NPU-B Monthly Zoning Committee Meeting
DESCRIPTION:https://us06web.zoom.us/j/81221608330\nMeeting ID: 812 2160 8330\nDial-In 646-558-8656\nAccess code\, 81221608330#
URL:https://www.gardenhills.org/event/npu-b-monthly-zoning-committee-meeting/2030-09-24/
LOCATION:Virtual
CATEGORIES:Neigborhood Planning Unit B
END:VEVENT
BEGIN:VEVENT
DTSTART;TZID=America/New_York:20301029T190000
DTEND;TZID=America/New_York:20301029T210000
DTSTAMP:20260424T111546
CREATED:20250531T140046Z
LAST-MODIFIED:20251124T201503Z
UID:10000276-1919530800-1919538000@www.gardenhills.org
SUMMARY:NPU-B Monthly Zoning Committee Meeting
DESCRIPTION:https://us06web.zoom.us/j/81221608330\nMeeting ID: 812 2160 8330\nDial-In 646-558-8656\nAccess code\, 81221608330#
URL:https://www.gardenhills.org/event/npu-b-monthly-zoning-committee-meeting/2030-10-29/
LOCATION:Virtual
CATEGORIES:Neigborhood Planning Unit B
END:VEVENT
END:VCALENDAR