BEGIN:VCALENDAR
VERSION:2.0
PRODID:-//Beautiful Garden Hills - ECPv6.15.20//NONSGML v1.0//EN
CALSCALE:GREGORIAN
METHOD:PUBLISH
X-ORIGINAL-URL:https://www.gardenhills.org
X-WR-CALDESC:Events for Beautiful Garden Hills
REFRESH-INTERVAL;VALUE=DURATION:PT1H
X-Robots-Tag:noindex
X-PUBLISHED-TTL:PT1H
BEGIN:VTIMEZONE
TZID:America/New_York
BEGIN:DAYLIGHT
TZOFFSETFROM:-0500
TZOFFSETTO:-0400
TZNAME:EDT
DTSTART:20240310T070000
END:DAYLIGHT
BEGIN:STANDARD
TZOFFSETFROM:-0400
TZOFFSETTO:-0500
TZNAME:EST
DTSTART:20241103T060000
END:STANDARD
BEGIN:DAYLIGHT
TZOFFSETFROM:-0500
TZOFFSETTO:-0400
TZNAME:EDT
DTSTART:20250309T070000
END:DAYLIGHT
BEGIN:STANDARD
TZOFFSETFROM:-0400
TZOFFSETTO:-0500
TZNAME:EST
DTSTART:20251102T060000
END:STANDARD
BEGIN:DAYLIGHT
TZOFFSETFROM:-0500
TZOFFSETTO:-0400
TZNAME:EDT
DTSTART:20260308T070000
END:DAYLIGHT
BEGIN:STANDARD
TZOFFSETFROM:-0400
TZOFFSETTO:-0500
TZNAME:EST
DTSTART:20261101T060000
END:STANDARD
BEGIN:DAYLIGHT
TZOFFSETFROM:-0500
TZOFFSETTO:-0400
TZNAME:EDT
DTSTART:20270314T070000
END:DAYLIGHT
BEGIN:STANDARD
TZOFFSETFROM:-0400
TZOFFSETTO:-0500
TZNAME:EST
DTSTART:20271107T060000
END:STANDARD
END:VTIMEZONE
BEGIN:VEVENT
DTSTART;TZID=America/New_York:20260331T190000
DTEND;TZID=America/New_York:20260331T210000
DTSTAMP:20260424T054840
CREATED:20250531T140046Z
LAST-MODIFIED:20251124T201503Z
UID:10000175-1774983600-1774990800@www.gardenhills.org
SUMMARY:NPU-B Monthly Zoning Committee Meeting
DESCRIPTION:https://us06web.zoom.us/j/81221608330\nMeeting ID: 812 2160 8330\nDial-In 646-558-8656\nAccess code\, 81221608330#
URL:https://www.gardenhills.org/event/npu-b-monthly-zoning-committee-meeting/2026-03-31/
LOCATION:Virtual
CATEGORIES:Neigborhood Planning Unit B
END:VEVENT
BEGIN:VEVENT
DTSTART;TZID=America/New_York:20260224T190000
DTEND;TZID=America/New_York:20260224T210000
DTSTAMP:20260424T054840
CREATED:20250531T140046Z
LAST-MODIFIED:20251124T201503Z
UID:10000174-1771959600-1771966800@www.gardenhills.org
SUMMARY:NPU-B Monthly Zoning Committee Meeting
DESCRIPTION:https://us06web.zoom.us/j/81221608330\nMeeting ID: 812 2160 8330\nDial-In 646-558-8656\nAccess code\, 81221608330#
URL:https://www.gardenhills.org/event/npu-b-monthly-zoning-committee-meeting/2026-02-24/
LOCATION:Virtual
CATEGORIES:Neigborhood Planning Unit B
END:VEVENT
BEGIN:VEVENT
DTSTART;TZID=America/New_York:20260127T190000
DTEND;TZID=America/New_York:20260127T210000
DTSTAMP:20260424T054840
CREATED:20250531T140046Z
LAST-MODIFIED:20251124T201503Z
UID:10000173-1769540400-1769547600@www.gardenhills.org
SUMMARY:NPU-B Monthly Zoning Committee Meeting
DESCRIPTION:https://us06web.zoom.us/j/81221608330\nMeeting ID: 812 2160 8330\nDial-In 646-558-8656\nAccess code\, 81221608330#
URL:https://www.gardenhills.org/event/npu-b-monthly-zoning-committee-meeting/2026-01-27/
LOCATION:Virtual
CATEGORIES:Neigborhood Planning Unit B
END:VEVENT
BEGIN:VEVENT
DTSTART;TZID=America/New_York:20251230T190000
DTEND;TZID=America/New_York:20251230T210000
DTSTAMP:20260424T054840
CREATED:20250531T140046Z
LAST-MODIFIED:20251124T201503Z
UID:10000172-1767121200-1767128400@www.gardenhills.org
SUMMARY:NPU-B Monthly Zoning Committee Meeting
DESCRIPTION:https://us06web.zoom.us/j/81221608330\nMeeting ID: 812 2160 8330\nDial-In 646-558-8656\nAccess code\, 81221608330#
URL:https://www.gardenhills.org/event/npu-b-monthly-zoning-committee-meeting/2025-12-30/
LOCATION:Virtual
CATEGORIES:Neigborhood Planning Unit B
END:VEVENT
BEGIN:VEVENT
DTSTART;TZID=America/New_York:20251028T190000
DTEND;TZID=America/New_York:20251028T210000
DTSTAMP:20260424T054840
CREATED:20250531T140046Z
LAST-MODIFIED:20251124T201503Z
UID:10000170-1761678000-1761685200@www.gardenhills.org
SUMMARY:NPU-B Monthly Zoning Committee Meeting
DESCRIPTION:https://us06web.zoom.us/j/81221608330\nMeeting ID: 812 2160 8330\nDial-In 646-558-8656\nAccess code\, 81221608330#
URL:https://www.gardenhills.org/event/npu-b-monthly-zoning-committee-meeting/2025-10-28/
LOCATION:Virtual
CATEGORIES:Neigborhood Planning Unit B
END:VEVENT
BEGIN:VEVENT
DTSTART;TZID=America/New_York:20250930T190000
DTEND;TZID=America/New_York:20250930T210000
DTSTAMP:20260424T054840
CREATED:20250531T140046Z
LAST-MODIFIED:20251124T201503Z
UID:10000169-1759258800-1759266000@www.gardenhills.org
SUMMARY:NPU-B Monthly Zoning Committee Meeting
DESCRIPTION:https://us06web.zoom.us/j/81221608330\nMeeting ID: 812 2160 8330\nDial-In 646-558-8656\nAccess code\, 81221608330#
URL:https://www.gardenhills.org/event/npu-b-monthly-zoning-committee-meeting/2025-09-30/
LOCATION:Virtual
CATEGORIES:Neigborhood Planning Unit B
END:VEVENT
BEGIN:VEVENT
DTSTART;TZID=America/New_York:20250826T190000
DTEND;TZID=America/New_York:20250826T210000
DTSTAMP:20260424T054840
CREATED:20250531T140046Z
LAST-MODIFIED:20251124T201503Z
UID:10000168-1756234800-1756242000@www.gardenhills.org
SUMMARY:NPU-B Monthly Zoning Committee Meeting
DESCRIPTION:https://us06web.zoom.us/j/81221608330\nMeeting ID: 812 2160 8330\nDial-In 646-558-8656\nAccess code\, 81221608330#
URL:https://www.gardenhills.org/event/npu-b-monthly-zoning-committee-meeting/2025-08-26/
LOCATION:Virtual
CATEGORIES:Neigborhood Planning Unit B
END:VEVENT
BEGIN:VEVENT
DTSTART;TZID=America/New_York:20250729T190000
DTEND;TZID=America/New_York:20250729T210000
DTSTAMP:20260424T054840
CREATED:20250531T140046Z
LAST-MODIFIED:20251124T201503Z
UID:10000167-1753815600-1753822800@www.gardenhills.org
SUMMARY:NPU-B Monthly Zoning Committee Meeting
DESCRIPTION:https://us06web.zoom.us/j/81221608330\nMeeting ID: 812 2160 8330\nDial-In 646-558-8656\nAccess code\, 81221608330#
URL:https://www.gardenhills.org/event/npu-b-monthly-zoning-committee-meeting/2025-07-29/
LOCATION:Virtual
CATEGORIES:Neigborhood Planning Unit B
END:VEVENT
BEGIN:VEVENT
DTSTART;TZID=America/New_York:20250624T190000
DTEND;TZID=America/New_York:20250624T210000
DTSTAMP:20260424T054840
CREATED:20250531T140046Z
LAST-MODIFIED:20251124T201503Z
UID:10000166-1750791600-1750798800@www.gardenhills.org
SUMMARY:NPU-B Monthly Zoning Committee Meeting
DESCRIPTION:https://us06web.zoom.us/j/81221608330\nMeeting ID: 812 2160 8330\nDial-In 646-558-8656\nAccess code\, 81221608330#
URL:https://www.gardenhills.org/event/npu-b-monthly-zoning-committee-meeting/2025-06-24/
LOCATION:Virtual
CATEGORIES:Neigborhood Planning Unit B
END:VEVENT
END:VCALENDAR