BEGIN:VCALENDAR
VERSION:2.0
PRODID:-//Beautiful Garden Hills - ECPv6.15.20//NONSGML v1.0//EN
CALSCALE:GREGORIAN
METHOD:PUBLISH
X-ORIGINAL-URL:https://www.gardenhills.org
X-WR-CALDESC:Events for Beautiful Garden Hills
REFRESH-INTERVAL;VALUE=DURATION:PT1H
X-Robots-Tag:noindex
X-PUBLISHED-TTL:PT1H
BEGIN:VTIMEZONE
TZID:America/New_York
BEGIN:DAYLIGHT
TZOFFSETFROM:-0500
TZOFFSETTO:-0400
TZNAME:EDT
DTSTART:20230312T070000
END:DAYLIGHT
BEGIN:STANDARD
TZOFFSETFROM:-0400
TZOFFSETTO:-0500
TZNAME:EST
DTSTART:20231105T060000
END:STANDARD
BEGIN:DAYLIGHT
TZOFFSETFROM:-0500
TZOFFSETTO:-0400
TZNAME:EDT
DTSTART:20240310T070000
END:DAYLIGHT
BEGIN:STANDARD
TZOFFSETFROM:-0400
TZOFFSETTO:-0500
TZNAME:EST
DTSTART:20241103T060000
END:STANDARD
BEGIN:DAYLIGHT
TZOFFSETFROM:-0500
TZOFFSETTO:-0400
TZNAME:EDT
DTSTART:20250309T070000
END:DAYLIGHT
BEGIN:STANDARD
TZOFFSETFROM:-0400
TZOFFSETTO:-0500
TZNAME:EST
DTSTART:20251102T060000
END:STANDARD
END:VTIMEZONE
BEGIN:VEVENT
DTSTART;TZID=America/New_York:20240627T173000
DTEND;TZID=America/New_York:20240627T210000
DTSTAMP:20260420T032752
CREATED:20240512T121131Z
LAST-MODIFIED:20250519T163540Z
UID:10000008-1719509400-1719522000@www.gardenhills.org
SUMMARY:[Pool & Park] Pool Closes 5:30 - Cool Sharks
DESCRIPTION:
URL:https://www.gardenhills.org/event/2024-06-27-pool-closes-530-cool-sharks/
LOCATION:Garden Hills Pool\, 335 Pinetree Dr NE\, Atlanta\, GA\, 30305\, United States
ORGANIZER;CN="Garden Hills Pool & Park Association":MAILTO:PoolBoard@GardenHillsPool.com
END:VEVENT
BEGIN:VEVENT
DTSTART;TZID=America/New_York:20240618T140000
DTEND;TZID=America/New_York:20240618T220000
DTSTAMP:20260420T032752
CREATED:20240512T120948Z
LAST-MODIFIED:20250519T163540Z
UID:10000007-1718719200-1718748000@www.gardenhills.org
SUMMARY:[Pool & Park] Pool Closes 2:00 - Home Swim Meet
DESCRIPTION:
URL:https://www.gardenhills.org/event/2024-06-18-pool-closes-200-home-swim-meet/
LOCATION:Garden Hills Pool\, 335 Pinetree Dr NE\, Atlanta\, GA\, 30305\, United States
ORGANIZER;CN="Garden Hills Pool & Park Association":MAILTO:PoolBoard@GardenHillsPool.com
END:VEVENT
BEGIN:VEVENT
DTSTART;TZID=America/New_York:20240611T140000
DTEND;TZID=America/New_York:20240611T220000
DTSTAMP:20260420T032752
CREATED:20240512T120832Z
LAST-MODIFIED:20250519T163540Z
UID:10000006-1718114400-1718143200@www.gardenhills.org
SUMMARY:[Pool & Park] Pool Closes 2:00 - Home Swim Meet
DESCRIPTION:
URL:https://www.gardenhills.org/event/2024-06-11-pool-closes-200-home-swim-meet/
LOCATION:Garden Hills Pool\, 335 Pinetree Dr NE\, Atlanta\, GA\, 30305\, United States
ORGANIZER;CN="Garden Hills Pool & Park Association":MAILTO:PoolBoard@GardenHillsPool.com
END:VEVENT
BEGIN:VEVENT
DTSTART;TZID=America/New_York:20240604T140000
DTEND;TZID=America/New_York:20240604T220000
DTSTAMP:20260420T032752
CREATED:20240512T120448Z
LAST-MODIFIED:20250519T163540Z
UID:10000005-1717509600-1717538400@www.gardenhills.org
SUMMARY:[Pool & Park] Pool Closes 2:00 - Home Swim Meet
DESCRIPTION:
URL:https://www.gardenhills.org/event/2024-06-04-pool-closes-200-home-swim-meet/
LOCATION:Garden Hills Pool\, 335 Pinetree Dr NE\, Atlanta\, GA\, 30305\, United States
ORGANIZER;CN="Garden Hills Pool & Park Association":MAILTO:PoolBoard@GardenHillsPool.com
END:VEVENT
BEGIN:VEVENT
DTSTART;TZID=America/New_York:20240527T100000
DTEND;TZID=America/New_York:20240527T170000
DTSTAMP:20260420T032752
CREATED:20240512T120012Z
LAST-MODIFIED:20250519T163541Z
UID:10000004-1716804000-1716829200@www.gardenhills.org
SUMMARY:[Pool & Park] Pool Opens to the Public
DESCRIPTION:
URL:https://www.gardenhills.org/event/pool-opens-to-the-public/
LOCATION:Garden Hills Pool\, 335 Pinetree Dr NE\, Atlanta\, GA\, 30305\, United States
ORGANIZER;CN="Garden Hills Pool & Park Association":MAILTO:PoolBoard@GardenHillsPool.com
END:VEVENT
BEGIN:VEVENT
DTSTART;TZID=America/New_York:20240510T163000
DTEND;TZID=America/New_York:20240510T200000
DTSTAMP:20260420T032752
CREATED:20240502T184511Z
LAST-MODIFIED:20250519T163541Z
UID:10000003-1715358600-1715371200@www.gardenhills.org
SUMMARY:[Pool & Park] Pool Opens for Members Only
DESCRIPTION:
URL:https://www.gardenhills.org/event/pool-opens-for-members-only/
LOCATION:Garden Hills Pool\, 335 Pinetree Dr NE\, Atlanta\, GA\, 30305\, United States
ORGANIZER;CN="Garden Hills Pool & Park Association":MAILTO:PoolBoard@GardenHillsPool.com
END:VEVENT
END:VCALENDAR