BEGIN:VCALENDAR
VERSION:2.0
PRODID:-//Beautiful Garden Hills - ECPv6.15.20//NONSGML v1.0//EN
CALSCALE:GREGORIAN
METHOD:PUBLISH
X-ORIGINAL-URL:https://www.gardenhills.org
X-WR-CALDESC:Events for Beautiful Garden Hills
REFRESH-INTERVAL;VALUE=DURATION:PT1H
X-Robots-Tag:noindex
X-PUBLISHED-TTL:PT1H
BEGIN:VTIMEZONE
TZID:America/New_York
BEGIN:DAYLIGHT
TZOFFSETFROM:-0500
TZOFFSETTO:-0400
TZNAME:EDT
DTSTART:20230312T070000
END:DAYLIGHT
BEGIN:STANDARD
TZOFFSETFROM:-0400
TZOFFSETTO:-0500
TZNAME:EST
DTSTART:20231105T060000
END:STANDARD
BEGIN:DAYLIGHT
TZOFFSETFROM:-0500
TZOFFSETTO:-0400
TZNAME:EDT
DTSTART:20240310T070000
END:DAYLIGHT
BEGIN:STANDARD
TZOFFSETFROM:-0400
TZOFFSETTO:-0500
TZNAME:EST
DTSTART:20241103T060000
END:STANDARD
BEGIN:DAYLIGHT
TZOFFSETFROM:-0500
TZOFFSETTO:-0400
TZNAME:EDT
DTSTART:20250309T070000
END:DAYLIGHT
BEGIN:STANDARD
TZOFFSETFROM:-0400
TZOFFSETTO:-0500
TZNAME:EST
DTSTART:20251102T060000
END:STANDARD
BEGIN:DAYLIGHT
TZOFFSETFROM:-0500
TZOFFSETTO:-0400
TZNAME:EDT
DTSTART:20260308T070000
END:DAYLIGHT
BEGIN:STANDARD
TZOFFSETFROM:-0400
TZOFFSETTO:-0500
TZNAME:EST
DTSTART:20261101T060000
END:STANDARD
END:VTIMEZONE
BEGIN:VEVENT
DTSTART;TZID=America/New_York:20251108T190000
DTEND;TZID=America/New_York:20251108T220000
DTSTAMP:20260419T222846
CREATED:20250516T191537Z
LAST-MODIFIED:20250519T173336Z
UID:10000019-1762628400-1762639200@www.gardenhills.org
SUMMARY:Garden Hills Centennial Celebration
DESCRIPTION:
URL:https://www.gardenhills.org/event/centennial-celebration/
LOCATION:Cherokee Town Club
CATEGORIES:Garden Hills Foundation,Social
END:VEVENT
BEGIN:VEVENT
DTSTART;TZID=America/New_York:20241026T190000
DTEND;TZID=America/New_York:20241026T230000
DTSTAMP:20260419T222846
CREATED:20240515T220710Z
LAST-MODIFIED:20250519T163540Z
UID:10000009-1729969200-1729983600@www.gardenhills.org
SUMMARY:[Foundation] Annual Gala - Casino Night
DESCRIPTION:Announcing our 2024 Casino Night at the Garden Hills Gala! \nThe Garden Hills Neighborhood Foundation (501(c)(3)) is thrilled to announce the return of the Garden Hills Gala on October 26\, 7pm at Atlanta International School. We will enjoy fun casino games\, food from some of the best restaurants in Buckhead\, music\, and a full\, open bar. This wonderful evening with friends and neighbors raises money for projects that improve the safety and beauty of the Garden Hills Neighborhood. Space is limited so buy your tickets now!
URL:https://www.gardenhills.org/event/ghnf-2024-gala/
LOCATION:Atlanta International School\, 2890 N Fulton Dr NE\, Atlanta\, 30305\, United States
END:VEVENT
BEGIN:VEVENT
DTSTART;TZID=America/New_York:20240521T190000
DTEND;TZID=America/New_York:20240521T210000
DTSTAMP:20260419T222846
CREATED:20240502T222621Z
LAST-MODIFIED:20250519T163541Z
UID:10000002-1716318000-1716325200@www.gardenhills.org
SUMMARY:[Foundation] Potluck and Annual Meeting
DESCRIPTION:
URL:https://www.gardenhills.org/event/ghnf-2024-potluck-and-annual-meeting/
LOCATION:Garden Hills Pool House – Special Events Room\, 335 Pinetree Drive NE\, Atlanta\, GA\, 30305\, United States
END:VEVENT
END:VCALENDAR