BEGIN:VCALENDAR
VERSION:2.0
PRODID:-//Beautiful Garden Hills - ECPv6.15.20//NONSGML v1.0//EN
CALSCALE:GREGORIAN
METHOD:PUBLISH
X-ORIGINAL-URL:https://www.gardenhills.org
X-WR-CALDESC:Events for Beautiful Garden Hills
REFRESH-INTERVAL;VALUE=DURATION:PT1H
X-Robots-Tag:noindex
X-PUBLISHED-TTL:PT1H
BEGIN:VTIMEZONE
TZID:America/New_York
BEGIN:DAYLIGHT
TZOFFSETFROM:-0500
TZOFFSETTO:-0400
TZNAME:EDT
DTSTART:20240310T070000
END:DAYLIGHT
BEGIN:STANDARD
TZOFFSETFROM:-0400
TZOFFSETTO:-0500
TZNAME:EST
DTSTART:20241103T060000
END:STANDARD
BEGIN:DAYLIGHT
TZOFFSETFROM:-0500
TZOFFSETTO:-0400
TZNAME:EDT
DTSTART:20250309T070000
END:DAYLIGHT
BEGIN:STANDARD
TZOFFSETFROM:-0400
TZOFFSETTO:-0500
TZNAME:EST
DTSTART:20251102T060000
END:STANDARD
BEGIN:DAYLIGHT
TZOFFSETFROM:-0500
TZOFFSETTO:-0400
TZNAME:EDT
DTSTART:20260308T070000
END:DAYLIGHT
BEGIN:STANDARD
TZOFFSETFROM:-0400
TZOFFSETTO:-0500
TZNAME:EST
DTSTART:20261101T060000
END:STANDARD
END:VTIMEZONE
BEGIN:VEVENT
DTSTART;TZID=America/New_York:20251207T140000
DTEND;TZID=America/New_York:20251207T160000
DTSTAMP:20260419T222510
CREATED:20251206T154536Z
LAST-MODIFIED:20251206T154536Z
UID:10000279-1765116000-1765123200@www.gardenhills.org
SUMMARY:Centennial Book Pickup
DESCRIPTION:If you ordered a Centennial book (order form here)\, come by the pool house to pick up your copy.
URL:https://www.gardenhills.org/event/centennial-book-pickup/
LOCATION:Garden Hills Pool House – Special Events Room\, 335 Pinetree Drive NE\, Atlanta\, GA\, 30305\, United States
END:VEVENT
BEGIN:VEVENT
DTSTART;TZID=America/New_York:20251031T180000
DTEND;TZID=America/New_York:20251031T210000
DTSTAMP:20260419T222510
CREATED:20251005T123718Z
LAST-MODIFIED:20251008T191409Z
UID:10000265-1761933600-1761944400@www.gardenhills.org
SUMMARY:Trick-or-Treat on Rumson & Bolling
DESCRIPTION:Join your neighbors for trick-or-treating on the Rumson-Bolling loop. Traffic will be blocked off for safety.
URL:https://www.gardenhills.org/event/trick-or-treat-on-rumson-bolling/
LOCATION:Rumson & Bolling Roundabout\, Rumson Rd NE & Bolling Rd NE\, Atlanta\, 30305\, United States
CATEGORIES:Garden Hills Civic Association
END:VEVENT
BEGIN:VEVENT
DTSTART;TZID=America/New_York:20251024T173000
DTEND;TZID=America/New_York:20251024T210000
DTSTAMP:20260419T222510
CREATED:20251005T122220Z
LAST-MODIFIED:20251014T194604Z
UID:10000258-1761327000-1761339600@www.gardenhills.org
SUMMARY:Centennial in the Streets Celebration
DESCRIPTION:Join the Garden Hills Civic Association at Sunnybrook Park and the Garden Hills Rec Center for an evening of live music\, BBQ\, and fun on October 24\, 2025 from 5:30 – 9:00 PM. \n— \nThe GHCA is bringing you not one but two special events to celebrate the centennial! \nTo be held between the Garden Hills Rec Center and Sunnybrook Park\, this event will be a fun excuse to gather together in the fall weather. It will be a kickoff street party celebration that we hope to repeat for years to come! You can expect: \n\nDas BBQ 🍖 – Preordering preferred (see link here and below)\nKing of Pops 🍧\nA fun neighborly atmosphere for the whole family 🥳\nBYO chairs 🪑🪑 to listen to the band\nBYO drinks: we’ll have some iced tea\, water\, and a keg (with donation) available until everything runs out\nLive Music from Hot Larry 🎸 (see more info here and below)\n\nLive Music \nThe live band is “Hot Larry” with none other than Pool board president and Garden Hills resident\, Jason Holland. For more details\, click here. \nVolunteers Needed \nThe GHCA Social Committee is looking for volunteers to help with this special event. It has created a SignupGenius\, which you can access here. Please sign up if you are able to help! Contact Amber Mendoza-Singh at 917-379-2240 with any questions. \nDon’t Forget to Pre-Order Your BBQ \nPre-order Das BBQ here. \n\nAdult plate\, $20 – Includes 2 meats (pulled pork\, smoked chicken)\, 2 sides (mac & cheese\, coleslaw) & 1 roll\nKid’s plate\, $12 – Includes 1 meat (pulled pork or smoked chicken)\, 1 side (mac & cheese or coleslaw) & 1 roll\n\n 
URL:https://www.gardenhills.org/event/centennial-in-the-streets/
LOCATION:Garden Hills Recreation Center\, 339 Pine Tree Dr NE\, Atlanta\, GA\, 30305\, United States
CATEGORIES:Committees,Garden Hills Civic Association,Social
END:VEVENT
BEGIN:VEVENT
DTSTART;TZID=America/New_York:20250723T160000
DTEND;TZID=America/New_York:20250723T200000
DTSTAMP:20260419T222510
CREATED:20250731T211235Z
LAST-MODIFIED:20250808T205226Z
UID:10000239-1753286400-1753300800@www.gardenhills.org
SUMMARY:Food Truck - Low Co Motion
DESCRIPTION:The Garden Hills Civic Association Presents \nLOW-CO MOTION FOOD TRUCK \nWednesday\, July 23\, 2025\n4:00-8:00 PM\nSee You There\, Near the Garden Hills Pool \nDelicious farm to table sandwiches and sides\nOMG BLT\, Gourmet Grilled Cheese\, Wicked Chicken\nPerfect for a summer night! \nNote – This event is not subsidized by the GHCA
URL:https://www.gardenhills.org/event/food-truck-low-co-motion/
LOCATION:Garden Hills Pool\, 335 Pinetree Dr NE\, Atlanta\, GA\, 30305\, United States
CATEGORIES:Social
END:VEVENT
END:VCALENDAR