BEGIN:VCALENDAR
VERSION:2.0
PRODID:-//Beautiful Garden Hills - ECPv6.15.20//NONSGML v1.0//EN
CALSCALE:GREGORIAN
METHOD:PUBLISH
X-WR-CALNAME:Beautiful Garden Hills
X-ORIGINAL-URL:https://www.gardenhills.org
X-WR-CALDESC:Events for Beautiful Garden Hills
REFRESH-INTERVAL;VALUE=DURATION:PT1H
X-Robots-Tag:noindex
X-PUBLISHED-TTL:PT1H
BEGIN:VTIMEZONE
TZID:America/New_York
BEGIN:DAYLIGHT
TZOFFSETFROM:-0500
TZOFFSETTO:-0400
TZNAME:EDT
DTSTART:20240310T070000
END:DAYLIGHT
BEGIN:STANDARD
TZOFFSETFROM:-0400
TZOFFSETTO:-0500
TZNAME:EST
DTSTART:20241103T060000
END:STANDARD
BEGIN:DAYLIGHT
TZOFFSETFROM:-0500
TZOFFSETTO:-0400
TZNAME:EDT
DTSTART:20250309T070000
END:DAYLIGHT
BEGIN:STANDARD
TZOFFSETFROM:-0400
TZOFFSETTO:-0500
TZNAME:EST
DTSTART:20251102T060000
END:STANDARD
BEGIN:DAYLIGHT
TZOFFSETFROM:-0500
TZOFFSETTO:-0400
TZNAME:EDT
DTSTART:20260308T070000
END:DAYLIGHT
BEGIN:STANDARD
TZOFFSETFROM:-0400
TZOFFSETTO:-0500
TZNAME:EST
DTSTART:20261101T060000
END:STANDARD
END:VTIMEZONE
BEGIN:VEVENT
DTSTART;TZID=America/New_York:20251206T110000
DTEND;TZID=America/New_York:20251206T160000
DTSTAMP:20260424T174115
CREATED:20251108T192101Z
LAST-MODIFIED:20251108T192218Z
UID:10000270-1765018800-1765036800@www.gardenhills.org
SUMMARY:AIS German Christmas Market
DESCRIPTION:Mark your calendars for a Buckhead holiday favorite — the AIS German Christmas Market! \nSaturday\, December 6th\n11:00 a.m. – 4:00 p.m.\n2890 N. Fulton Drive NE \nEnjoy delicious German treats (Bratwurst\, Glühwein\, Crepes\, Candied Almonds\, German Soups\, and more)\, shop local vendors\, stock up on holiday decor\, and soak up the cozy Christmas spirit. Children can also get into the festive fun with candle dipping\, German crafts\, and holiday face painting. \nAnd\, our holiday music\, performances\, and carols provide for the perfect way to kick off the season!
URL:https://www.gardenhills.org/event/ais-german-christmas-market/
LOCATION:Atlanta International School\, 2890 N Fulton Dr NE\, Atlanta\, 30305\, United States
ORGANIZER;CN="AIS Parent Organization (PO)":MAILTO:pomarketing@aischool.org
END:VEVENT
END:VCALENDAR