BEGIN:VCALENDAR
VERSION:2.0
PRODID:-//Beautiful Garden Hills - ECPv6.15.20//NONSGML v1.0//EN
CALSCALE:GREGORIAN
METHOD:PUBLISH
X-ORIGINAL-URL:https://www.gardenhills.org
X-WR-CALDESC:Events for Beautiful Garden Hills
REFRESH-INTERVAL;VALUE=DURATION:PT1H
X-Robots-Tag:noindex
X-PUBLISHED-TTL:PT1H
BEGIN:VTIMEZONE
TZID:America/New_York
BEGIN:DAYLIGHT
TZOFFSETFROM:-0500
TZOFFSETTO:-0400
TZNAME:EDT
DTSTART:20240310T070000
END:DAYLIGHT
BEGIN:STANDARD
TZOFFSETFROM:-0400
TZOFFSETTO:-0500
TZNAME:EST
DTSTART:20241103T060000
END:STANDARD
BEGIN:DAYLIGHT
TZOFFSETFROM:-0500
TZOFFSETTO:-0400
TZNAME:EDT
DTSTART:20250309T070000
END:DAYLIGHT
BEGIN:STANDARD
TZOFFSETFROM:-0400
TZOFFSETTO:-0500
TZNAME:EST
DTSTART:20251102T060000
END:STANDARD
BEGIN:DAYLIGHT
TZOFFSETFROM:-0500
TZOFFSETTO:-0400
TZNAME:EDT
DTSTART:20260308T070000
END:DAYLIGHT
BEGIN:STANDARD
TZOFFSETFROM:-0400
TZOFFSETTO:-0500
TZNAME:EST
DTSTART:20261101T060000
END:STANDARD
BEGIN:DAYLIGHT
TZOFFSETFROM:-0500
TZOFFSETTO:-0400
TZNAME:EDT
DTSTART:20270314T070000
END:DAYLIGHT
BEGIN:STANDARD
TZOFFSETFROM:-0400
TZOFFSETTO:-0500
TZNAME:EST
DTSTART:20271107T060000
END:STANDARD
END:VTIMEZONE
BEGIN:VEVENT
DTSTART;TZID=America/New_York:20260403T080000
DTEND;TZID=America/New_York:20260410T170000
DTSTAMP:20260419T085549
CREATED:20250530T213503Z
LAST-MODIFIED:20251005T122520Z
UID:10000037-1775203200-1775840400@www.gardenhills.org
SUMMARY:CKS and CTK Preschool Spring Break
DESCRIPTION:
URL:https://www.gardenhills.org/event/cks-ctk-preschool-spring-break/
CATEGORIES:Christ the King Preschool at Second Ponce,Christ the King School
END:VEVENT
BEGIN:VEVENT
DTSTART;TZID=America/New_York:20251222T080000
DTEND;TZID=America/New_York:20260105T170000
DTSTAMP:20260419T085549
CREATED:20250530T213249Z
LAST-MODIFIED:20251005T122538Z
UID:10000036-1766390400-1767632400@www.gardenhills.org
SUMMARY:CKS and CTK Preschool Christmas Break
DESCRIPTION:
URL:https://www.gardenhills.org/event/cks-ctk-preschool-christmas-break/
CATEGORIES:Christ the King Preschool at Second Ponce,Christ the King School
END:VEVENT
BEGIN:VEVENT
DTSTART;TZID=America/New_York:20251124T080000
DTEND;TZID=America/New_York:20251128T170000
DTSTAMP:20260419T085549
CREATED:20250530T213151Z
LAST-MODIFIED:20251005T124345Z
UID:10000035-1763971200-1764349200@www.gardenhills.org
SUMMARY:CKS and CTK Preschool Thanksgiving Break
DESCRIPTION:
URL:https://www.gardenhills.org/event/cks-ctk-thanksgiving-break/
CATEGORIES:Christ the King Preschool at Second Ponce,Christ the King School
END:VEVENT
BEGIN:VEVENT
DTSTART;TZID=America/New_York:20251013T080000
DTEND;TZID=America/New_York:20251014T170000
DTSTAMP:20260419T085549
CREATED:20250530T213045Z
LAST-MODIFIED:20251005T124608Z
UID:10000034-1760342400-1760461200@www.gardenhills.org
SUMMARY:CKS and CTK Preschool Fall Break
DESCRIPTION:
URL:https://www.gardenhills.org/event/cks-ctk-preschool-fall-break/
CATEGORIES:Christ the King Preschool at Second Ponce,Christ the King School
END:VEVENT
BEGIN:VEVENT
DTSTART;TZID=America/New_York:20250806T080000
DTEND;TZID=America/New_York:20250806T170000
DTSTAMP:20260419T085549
CREATED:20250616T140607Z
LAST-MODIFIED:20251005T124316Z
UID:10000234-1754467200-1754499600@www.gardenhills.org
SUMMARY:CKS and CTK First Day of School
DESCRIPTION:
URL:https://www.gardenhills.org/event/cks-ctk-first-day-of-school/
CATEGORIES:Christ the King School
END:VEVENT
END:VCALENDAR