BEGIN:VCALENDAR
VERSION:2.0
PRODID:-//Beautiful Garden Hills - ECPv6.15.20//NONSGML v1.0//EN
CALSCALE:GREGORIAN
METHOD:PUBLISH
X-WR-CALNAME:Beautiful Garden Hills
X-ORIGINAL-URL:https://www.gardenhills.org
X-WR-CALDESC:Events for Beautiful Garden Hills
REFRESH-INTERVAL;VALUE=DURATION:PT1H
X-Robots-Tag:noindex
X-PUBLISHED-TTL:PT1H
BEGIN:VTIMEZONE
TZID:America/New_York
BEGIN:DAYLIGHT
TZOFFSETFROM:-0500
TZOFFSETTO:-0400
TZNAME:EDT
DTSTART:20240310T070000
END:DAYLIGHT
BEGIN:STANDARD
TZOFFSETFROM:-0400
TZOFFSETTO:-0500
TZNAME:EST
DTSTART:20241103T060000
END:STANDARD
BEGIN:DAYLIGHT
TZOFFSETFROM:-0500
TZOFFSETTO:-0400
TZNAME:EDT
DTSTART:20250309T070000
END:DAYLIGHT
BEGIN:STANDARD
TZOFFSETFROM:-0400
TZOFFSETTO:-0500
TZNAME:EST
DTSTART:20251102T060000
END:STANDARD
BEGIN:DAYLIGHT
TZOFFSETFROM:-0500
TZOFFSETTO:-0400
TZNAME:EDT
DTSTART:20260308T070000
END:DAYLIGHT
BEGIN:STANDARD
TZOFFSETFROM:-0400
TZOFFSETTO:-0500
TZNAME:EST
DTSTART:20261101T060000
END:STANDARD
BEGIN:DAYLIGHT
TZOFFSETFROM:-0500
TZOFFSETTO:-0400
TZNAME:EDT
DTSTART:20270314T070000
END:DAYLIGHT
BEGIN:STANDARD
TZOFFSETFROM:-0400
TZOFFSETTO:-0500
TZNAME:EST
DTSTART:20271107T060000
END:STANDARD
END:VTIMEZONE
BEGIN:VEVENT
DTSTART;TZID=America/New_York:20260302T080000
DTEND;TZID=America/New_York:20260306T170000
DTSTAMP:20260424T091153
CREATED:20250531T092805Z
LAST-MODIFIED:20250531T092805Z
UID:10000042-1772438400-1772816400@www.gardenhills.org
SUMMARY:AIS Spring Break
DESCRIPTION:
URL:https://www.gardenhills.org/event/ais-spring-break/
CATEGORIES:Atlanta International School
END:VEVENT
BEGIN:VEVENT
DTSTART;TZID=America/New_York:20251222T080000
DTEND;TZID=America/New_York:20260105T170000
DTSTAMP:20260424T091153
CREATED:20250531T093152Z
LAST-MODIFIED:20250531T093152Z
UID:10000045-1766390400-1767632400@www.gardenhills.org
SUMMARY:AIS Winter Break
DESCRIPTION:
URL:https://www.gardenhills.org/event/ais-winter-break/
CATEGORIES:Atlanta International School
END:VEVENT
BEGIN:VEVENT
DTSTART;TZID=America/New_York:20251124T080000
DTEND;TZID=America/New_York:20251128T170000
DTSTAMP:20260424T091153
CREATED:20250531T092712Z
LAST-MODIFIED:20250531T092712Z
UID:10000041-1763971200-1764349200@www.gardenhills.org
SUMMARY:AIS Thanksgiving Break
DESCRIPTION:
URL:https://www.gardenhills.org/event/ais-thanksgiving-break/
CATEGORIES:Atlanta International School
END:VEVENT
BEGIN:VEVENT
DTSTART;TZID=America/New_York:20251026T123000
DTEND;TZID=America/New_York:20251026T163000
DTSTAMP:20260424T091153
CREATED:20250602T180238Z
LAST-MODIFIED:20251023T161210Z
UID:10000226-1761481800-1761496200@www.gardenhills.org
SUMMARY:AIS Worldfest
DESCRIPTION:We are looking forward to celebrating AIS Worldfest 2025 on Sunday\, October 26th from 12:30 – 4:30pm. \nThis year’s event will feature food and culture from 30+ countries\, a fantastic line up of entertainment and fun activities for kids. We are loving that AIS is celebrating it’s 40th Anniversary this year and Worldfest is all about it! \nFor further information and updates on the event\, make sure you continue to check this site; more details will be posted as we get closer to the exciting day. \nWorldfest is a massive group effort and we can’t do this without our wonderful AIS Community! \nLearn more at https://aisworldfest.org/
URL:https://www.gardenhills.org/event/ais-worldfest/
LOCATION:Atlanta International School\, 2890 N Fulton Dr NE\, Atlanta\, 30305\, United States
CATEGORIES:Atlanta International School
END:VEVENT
BEGIN:VEVENT
DTSTART;TZID=America/New_York:20251006T080000
DTEND;TZID=America/New_York:20251010T170000
DTSTAMP:20260424T091153
CREATED:20250531T092629Z
LAST-MODIFIED:20250531T092629Z
UID:10000040-1759737600-1760115600@www.gardenhills.org
SUMMARY:AIS Fall Break
DESCRIPTION:
URL:https://www.gardenhills.org/event/ais-fall-break/
CATEGORIES:Atlanta International School
END:VEVENT
BEGIN:VEVENT
DTSTART;TZID=America/New_York:20250812T080000
DTEND;TZID=America/New_York:20250812T170000
DTSTAMP:20260424T091153
CREATED:20250531T092543Z
LAST-MODIFIED:20250531T092543Z
UID:10000039-1754985600-1755018000@www.gardenhills.org
SUMMARY:AIS First Day of School
DESCRIPTION:
URL:https://www.gardenhills.org/event/ais-first-day-of-school/
CATEGORIES:Atlanta International School
END:VEVENT
END:VCALENDAR