BEGIN:VCALENDAR
VERSION:2.0
PRODID:-//Beautiful Garden Hills - ECPv6.15.20//NONSGML v1.0//EN
CALSCALE:GREGORIAN
METHOD:PUBLISH
X-WR-CALNAME:Beautiful Garden Hills
X-ORIGINAL-URL:https://www.gardenhills.org
X-WR-CALDESC:Events for Beautiful Garden Hills
REFRESH-INTERVAL;VALUE=DURATION:PT1H
X-Robots-Tag:noindex
X-PUBLISHED-TTL:PT1H
BEGIN:VTIMEZONE
TZID:America/New_York
BEGIN:DAYLIGHT
TZOFFSETFROM:-0500
TZOFFSETTO:-0400
TZNAME:EDT
DTSTART:20240310T070000
END:DAYLIGHT
BEGIN:STANDARD
TZOFFSETFROM:-0400
TZOFFSETTO:-0500
TZNAME:EST
DTSTART:20241103T060000
END:STANDARD
BEGIN:DAYLIGHT
TZOFFSETFROM:-0500
TZOFFSETTO:-0400
TZNAME:EDT
DTSTART:20250309T070000
END:DAYLIGHT
BEGIN:STANDARD
TZOFFSETFROM:-0400
TZOFFSETTO:-0500
TZNAME:EST
DTSTART:20251102T060000
END:STANDARD
BEGIN:DAYLIGHT
TZOFFSETFROM:-0500
TZOFFSETTO:-0400
TZNAME:EDT
DTSTART:20260308T070000
END:DAYLIGHT
BEGIN:STANDARD
TZOFFSETFROM:-0400
TZOFFSETTO:-0500
TZNAME:EST
DTSTART:20261101T060000
END:STANDARD
END:VTIMEZONE
BEGIN:VEVENT
DTSTART;VALUE=DATE:20250921
DTEND;VALUE=DATE:20250922
DTSTAMP:20260424T111644
CREATED:20250530T211740Z
LAST-MODIFIED:20250530T211740Z
UID:10000032-1758412800-1758499199@www.gardenhills.org
SUMMARY:Pool Last Day
DESCRIPTION:
URL:https://www.gardenhills.org/event/pool-last-day/
CATEGORIES:Garden Hills Pool & Parks
END:VEVENT
BEGIN:VEVENT
DTSTART;TZID=America/New_York:20250726T190000
DTEND;TZID=America/New_York:20250726T213000
DTSTAMP:20260424T111644
CREATED:20250530T211526Z
LAST-MODIFIED:20250530T211606Z
UID:10000030-1753556400-1753565400@www.gardenhills.org
SUMMARY:Pool Youth Members Only Party
DESCRIPTION:
URL:https://www.gardenhills.org/event/pool-adult-members-only-party-2/
CATEGORIES:Garden Hills Pool & Parks
END:VEVENT
BEGIN:VEVENT
DTSTART;TZID=America/New_York:20250718T180000
DTEND;TZID=America/New_York:20250718T210000
DTSTAMP:20260424T111644
CREATED:20250530T211348Z
LAST-MODIFIED:20250530T211423Z
UID:10000029-1752861600-1752872400@www.gardenhills.org
SUMMARY:Pool Adult Swim Meet
DESCRIPTION:
URL:https://www.gardenhills.org/event/pool-adult-members-only-party/
CATEGORIES:Garden Hills Pool & Parks
END:VEVENT
BEGIN:VEVENT
DTSTART;TZID=America/New_York:20250712T190000
DTEND;TZID=America/New_York:20250712T230000
DTSTAMP:20260424T111644
CREATED:20250530T211701Z
LAST-MODIFIED:20250530T211701Z
UID:10000031-1752346800-1752361200@www.gardenhills.org
SUMMARY:Pool Adult Members Only Party
DESCRIPTION:
URL:https://www.gardenhills.org/event/pool-adult-members-only-party-3/
CATEGORIES:Garden Hills Pool & Parks
END:VEVENT
BEGIN:VEVENT
DTSTART;TZID=America/New_York:20250617T140000
DTEND;TZID=America/New_York:20250617T220000
DTSTAMP:20260424T111644
CREATED:20250530T211210Z
LAST-MODIFIED:20250530T211303Z
UID:10000028-1750168800-1750197600@www.gardenhills.org
SUMMARY:Pool Swim Meet
DESCRIPTION:
URL:https://www.gardenhills.org/event/pool-swim-meet-2/
CATEGORIES:Garden Hills Pool & Parks
END:VEVENT
BEGIN:VEVENT
DTSTART;TZID=America/New_York:20250603T140000
DTEND;TZID=America/New_York:20250603T210000
DTSTAMP:20260424T111644
CREATED:20250530T211124Z
LAST-MODIFIED:20250530T211124Z
UID:10000027-1748959200-1748984400@www.gardenhills.org
SUMMARY:Pool Swim Meet
DESCRIPTION:
URL:https://www.gardenhills.org/event/pool-swim-meet/
CATEGORIES:Garden Hills Pool & Parks
END:VEVENT
END:VCALENDAR