BEGIN:VCALENDAR
VERSION:2.0
PRODID:-//Beautiful Garden Hills - ECPv6.15.20//NONSGML v1.0//EN
CALSCALE:GREGORIAN
METHOD:PUBLISH
X-ORIGINAL-URL:https://www.gardenhills.org
X-WR-CALDESC:Events for Beautiful Garden Hills
REFRESH-INTERVAL;VALUE=DURATION:PT1H
X-Robots-Tag:noindex
X-PUBLISHED-TTL:PT1H
BEGIN:VTIMEZONE
TZID:America/New_York
BEGIN:DAYLIGHT
TZOFFSETFROM:-0500
TZOFFSETTO:-0400
TZNAME:EDT
DTSTART:20240310T070000
END:DAYLIGHT
BEGIN:STANDARD
TZOFFSETFROM:-0400
TZOFFSETTO:-0500
TZNAME:EST
DTSTART:20241103T060000
END:STANDARD
BEGIN:DAYLIGHT
TZOFFSETFROM:-0500
TZOFFSETTO:-0400
TZNAME:EDT
DTSTART:20250309T070000
END:DAYLIGHT
BEGIN:STANDARD
TZOFFSETFROM:-0400
TZOFFSETTO:-0500
TZNAME:EST
DTSTART:20251102T060000
END:STANDARD
BEGIN:DAYLIGHT
TZOFFSETFROM:-0500
TZOFFSETTO:-0400
TZNAME:EDT
DTSTART:20260308T070000
END:DAYLIGHT
BEGIN:STANDARD
TZOFFSETFROM:-0400
TZOFFSETTO:-0500
TZNAME:EST
DTSTART:20261101T060000
END:STANDARD
END:VTIMEZONE
BEGIN:VEVENT
DTSTART;TZID=America/New_York:20251213T083000
DTEND;TZID=America/New_York:20251213T120000
DTSTAMP:20260419T215637
CREATED:20251004T123514Z
LAST-MODIFIED:20251004T123628Z
UID:10000256-1765614600-1765627200@www.gardenhills.org
SUMMARY:Peachtree Rd Farmers Market
DESCRIPTION:Shop over 70 local vendors\, enjoy live music\, children’s area\, chef pop-up\, playgrounds and more from 8:30am – 12pm Saturday! \nLocated at the Cathedral of St. Philip\, 2744 Peachtree Rd NW\, Atlanta GA 30305
URL:https://www.gardenhills.org/event/peachtree-road-farmers-market/2025-12-13/
LOCATION:Cathedral of St. Philip\, 2744 Peachtree Rd NW\, Atlanta\, 30305\, United States
CATEGORIES:Buckhead
END:VEVENT
END:VCALENDAR