BEGIN:VCALENDAR
VERSION:2.0
PRODID:-//Beautiful Garden Hills - ECPv6.15.20//NONSGML v1.0//EN
CALSCALE:GREGORIAN
METHOD:PUBLISH
X-ORIGINAL-URL:https://www.gardenhills.org
X-WR-CALDESC:Events for Beautiful Garden Hills
REFRESH-INTERVAL;VALUE=DURATION:PT1H
X-Robots-Tag:noindex
X-PUBLISHED-TTL:PT1H
BEGIN:VTIMEZONE
TZID:America/New_York
BEGIN:DAYLIGHT
TZOFFSETFROM:-0500
TZOFFSETTO:-0400
TZNAME:EDT
DTSTART:20240310T070000
END:DAYLIGHT
BEGIN:STANDARD
TZOFFSETFROM:-0400
TZOFFSETTO:-0500
TZNAME:EST
DTSTART:20241103T060000
END:STANDARD
BEGIN:DAYLIGHT
TZOFFSETFROM:-0500
TZOFFSETTO:-0400
TZNAME:EDT
DTSTART:20250309T070000
END:DAYLIGHT
BEGIN:STANDARD
TZOFFSETFROM:-0400
TZOFFSETTO:-0500
TZNAME:EST
DTSTART:20251102T060000
END:STANDARD
BEGIN:DAYLIGHT
TZOFFSETFROM:-0500
TZOFFSETTO:-0400
TZNAME:EDT
DTSTART:20260308T070000
END:DAYLIGHT
BEGIN:STANDARD
TZOFFSETFROM:-0400
TZOFFSETTO:-0500
TZNAME:EST
DTSTART:20261101T060000
END:STANDARD
END:VTIMEZONE
BEGIN:VEVENT
DTSTART;TZID=America/New_York:20251004T083000
DTEND;TZID=America/New_York:20251004T120000
DTSTAMP:20260419T234006
CREATED:20251004T123514Z
LAST-MODIFIED:20251004T123628Z
UID:10000246-1759566600-1759579200@www.gardenhills.org
SUMMARY:Peachtree Rd Farmers Market
DESCRIPTION:Shop over 70 local vendors\, enjoy live music\, children’s area\, chef pop-up\, playgrounds and more from 8:30am – 12pm Saturday! \nLocated at the Cathedral of St. Philip\, 2744 Peachtree Rd NW\, Atlanta GA 30305
URL:https://www.gardenhills.org/event/peachtree-road-farmers-market/2025-10-04/
LOCATION:Cathedral of St. Philip\, 2744 Peachtree Rd NW\, Atlanta\, 30305\, United States
CATEGORIES:Buckhead
END:VEVENT
BEGIN:VEVENT
DTSTART;TZID=America/New_York:20251010T090000
DTEND;TZID=America/New_York:20251010T100000
DTSTAMP:20260419T234006
CREATED:20251004T101943Z
LAST-MODIFIED:20251004T123628Z
UID:10000245-1760086800-1760090400@www.gardenhills.org
SUMMARY:Park Pride - Bagley Park
DESCRIPTION:Raise your Park IQ with Park Pride! \nJoin us on Friday\, October 10\, at 9 am for our Second Friday Walk in the Park at Bagley Park! Bagley Park (formerly Frankie Allen Park) is a 21-acre greenspace nestled in Buckhead’s Garden Hills near Buckhead Village. Known as the home of Buckhead Baseball\, a baseball league for kids\, the park also features four tennis courts\, shady picnic spots\, paved walkways\, and plenty of room to explore beyond the ballfields. \nIn addition to its amenities\, the Bagley Park holds an important history. A small cemetery along Pharr Road marks the once-thriving African-American community founded here in the 1870s. In 1929\, community leader William Bagley purchased land and renamed it from Macedonia Park. \nBring your coffee and walking shoes as we explore the park and its story! \nNOTE: After entering\, turn left into the first parking lot. The group will meet in front of the Mt. Olive Cemetery near the parking lot. The walk is under a mile on paved paths with a gentle slope\, and the route is wheelchair accessible.
URL:https://www.gardenhills.org/event/park-pride-bagley-park/
LOCATION:Bagley Park\, 431 Pharr Rd NE\, Atlanta\, 30305\, United States
CATEGORIES:Buckhead
END:VEVENT
BEGIN:VEVENT
DTSTART;TZID=America/New_York:20251011T083000
DTEND;TZID=America/New_York:20251011T120000
DTSTAMP:20260419T234006
CREATED:20251004T123514Z
LAST-MODIFIED:20251004T123628Z
UID:10000247-1760171400-1760184000@www.gardenhills.org
SUMMARY:Peachtree Rd Farmers Market
DESCRIPTION:Shop over 70 local vendors\, enjoy live music\, children’s area\, chef pop-up\, playgrounds and more from 8:30am – 12pm Saturday! \nLocated at the Cathedral of St. Philip\, 2744 Peachtree Rd NW\, Atlanta GA 30305
URL:https://www.gardenhills.org/event/peachtree-road-farmers-market/2025-10-11/
LOCATION:Cathedral of St. Philip\, 2744 Peachtree Rd NW\, Atlanta\, 30305\, United States
CATEGORIES:Buckhead
END:VEVENT
BEGIN:VEVENT
DTSTART;TZID=America/New_York:20251018T083000
DTEND;TZID=America/New_York:20251018T120000
DTSTAMP:20260419T234006
CREATED:20251004T123514Z
LAST-MODIFIED:20251004T123628Z
UID:10000248-1760776200-1760788800@www.gardenhills.org
SUMMARY:Peachtree Rd Farmers Market
DESCRIPTION:Shop over 70 local vendors\, enjoy live music\, children’s area\, chef pop-up\, playgrounds and more from 8:30am – 12pm Saturday! \nLocated at the Cathedral of St. Philip\, 2744 Peachtree Rd NW\, Atlanta GA 30305
URL:https://www.gardenhills.org/event/peachtree-road-farmers-market/2025-10-18/
LOCATION:Cathedral of St. Philip\, 2744 Peachtree Rd NW\, Atlanta\, 30305\, United States
CATEGORIES:Buckhead
END:VEVENT
BEGIN:VEVENT
DTSTART;TZID=America/New_York:20251025T083000
DTEND;TZID=America/New_York:20251025T120000
DTSTAMP:20260419T234006
CREATED:20251004T123514Z
LAST-MODIFIED:20251004T123628Z
UID:10000249-1761381000-1761393600@www.gardenhills.org
SUMMARY:Peachtree Rd Farmers Market
DESCRIPTION:Shop over 70 local vendors\, enjoy live music\, children’s area\, chef pop-up\, playgrounds and more from 8:30am – 12pm Saturday! \nLocated at the Cathedral of St. Philip\, 2744 Peachtree Rd NW\, Atlanta GA 30305
URL:https://www.gardenhills.org/event/peachtree-road-farmers-market/2025-10-25/
LOCATION:Cathedral of St. Philip\, 2744 Peachtree Rd NW\, Atlanta\, 30305\, United States
CATEGORIES:Buckhead
END:VEVENT
END:VCALENDAR