BEGIN:VCALENDAR
VERSION:2.0
PRODID:-//Beautiful Garden Hills - ECPv6.15.20//NONSGML v1.0//EN
CALSCALE:GREGORIAN
METHOD:PUBLISH
X-ORIGINAL-URL:https://www.gardenhills.org
X-WR-CALDESC:Events for Beautiful Garden Hills
REFRESH-INTERVAL;VALUE=DURATION:PT1H
X-Robots-Tag:noindex
X-PUBLISHED-TTL:PT1H
BEGIN:VTIMEZONE
TZID:America/New_York
BEGIN:DAYLIGHT
TZOFFSETFROM:-0500
TZOFFSETTO:-0400
TZNAME:EDT
DTSTART:20270314T070000
END:DAYLIGHT
BEGIN:STANDARD
TZOFFSETFROM:-0400
TZOFFSETTO:-0500
TZNAME:EST
DTSTART:20271107T060000
END:STANDARD
BEGIN:DAYLIGHT
TZOFFSETFROM:-0500
TZOFFSETTO:-0400
TZNAME:EDT
DTSTART:20280312T070000
END:DAYLIGHT
BEGIN:STANDARD
TZOFFSETFROM:-0400
TZOFFSETTO:-0500
TZNAME:EST
DTSTART:20281105T060000
END:STANDARD
BEGIN:DAYLIGHT
TZOFFSETFROM:-0500
TZOFFSETTO:-0400
TZNAME:EDT
DTSTART:20290311T070000
END:DAYLIGHT
BEGIN:STANDARD
TZOFFSETFROM:-0400
TZOFFSETTO:-0500
TZNAME:EST
DTSTART:20291104T060000
END:STANDARD
BEGIN:DAYLIGHT
TZOFFSETFROM:-0500
TZOFFSETTO:-0400
TZNAME:EDT
DTSTART:20300310T070000
END:DAYLIGHT
BEGIN:STANDARD
TZOFFSETFROM:-0400
TZOFFSETTO:-0500
TZNAME:EST
DTSTART:20301103T060000
END:STANDARD
BEGIN:DAYLIGHT
TZOFFSETFROM:-0500
TZOFFSETTO:-0400
TZNAME:EDT
DTSTART:20310309T070000
END:DAYLIGHT
BEGIN:STANDARD
TZOFFSETFROM:-0400
TZOFFSETTO:-0500
TZNAME:EST
DTSTART:20311102T060000
END:STANDARD
END:VTIMEZONE
BEGIN:VEVENT
DTSTART;TZID=America/New_York:20281031T190000
DTEND;TZID=America/New_York:20281031T210000
DTSTAMP:20260424T144528
CREATED:20250531T140046Z
LAST-MODIFIED:20251124T201503Z
UID:10000206-1856631600-1856638800@www.gardenhills.org
SUMMARY:NPU-B Monthly Zoning Committee Meeting
DESCRIPTION:https://us06web.zoom.us/j/81221608330\nMeeting ID: 812 2160 8330\nDial-In 646-558-8656\nAccess code\, 81221608330#
URL:https://www.gardenhills.org/event/npu-b-monthly-zoning-committee-meeting/2028-10-31/
LOCATION:Virtual
CATEGORIES:Neigborhood Planning Unit B
END:VEVENT
BEGIN:VEVENT
DTSTART;TZID=America/New_York:20281107T190000
DTEND;TZID=America/New_York:20281107T210000
DTSTAMP:20260424T144528
CREATED:20250531T135822Z
LAST-MODIFIED:20250605T101026Z
UID:10000147-1857236400-1857243600@www.gardenhills.org
SUMMARY:NPU-B Monthly Meeting
DESCRIPTION:https://us06web.zoom.us/j/81221608330\nMeeting ID: 812 2160 8330\nDial-In 646-558-8656\nAccess code 81221608330
URL:https://www.gardenhills.org/event/npu-b-monthly-meeting/2028-11-07/
LOCATION:Virtual
CATEGORIES:Neigborhood Planning Unit B
END:VEVENT
BEGIN:VEVENT
DTSTART;TZID=America/New_York:20281128T190000
DTEND;TZID=America/New_York:20281128T210000
DTSTAMP:20260424T144528
CREATED:20250531T140046Z
LAST-MODIFIED:20251124T201503Z
UID:10000207-1859050800-1859058000@www.gardenhills.org
SUMMARY:NPU-B Monthly Zoning Committee Meeting
DESCRIPTION:https://us06web.zoom.us/j/81221608330\nMeeting ID: 812 2160 8330\nDial-In 646-558-8656\nAccess code\, 81221608330#
URL:https://www.gardenhills.org/event/npu-b-monthly-zoning-committee-meeting/2028-11-28/
LOCATION:Virtual
CATEGORIES:Neigborhood Planning Unit B
END:VEVENT
BEGIN:VEVENT
DTSTART;TZID=America/New_York:20281205T190000
DTEND;TZID=America/New_York:20281205T210000
DTSTAMP:20260424T144528
CREATED:20250531T135822Z
LAST-MODIFIED:20250605T101026Z
UID:10000148-1859655600-1859662800@www.gardenhills.org
SUMMARY:NPU-B Monthly Meeting
DESCRIPTION:https://us06web.zoom.us/j/81221608330\nMeeting ID: 812 2160 8330\nDial-In 646-558-8656\nAccess code 81221608330
URL:https://www.gardenhills.org/event/npu-b-monthly-meeting/2028-12-05/
LOCATION:Virtual
CATEGORIES:Neigborhood Planning Unit B
END:VEVENT
BEGIN:VEVENT
DTSTART;TZID=America/New_York:20281226T190000
DTEND;TZID=America/New_York:20281226T210000
DTSTAMP:20260424T144528
CREATED:20250531T140046Z
LAST-MODIFIED:20251124T201503Z
UID:10000208-1861470000-1861477200@www.gardenhills.org
SUMMARY:NPU-B Monthly Zoning Committee Meeting
DESCRIPTION:https://us06web.zoom.us/j/81221608330\nMeeting ID: 812 2160 8330\nDial-In 646-558-8656\nAccess code\, 81221608330#
URL:https://www.gardenhills.org/event/npu-b-monthly-zoning-committee-meeting/2028-12-26/
LOCATION:Virtual
CATEGORIES:Neigborhood Planning Unit B
END:VEVENT
BEGIN:VEVENT
DTSTART;TZID=America/New_York:20290102T190000
DTEND;TZID=America/New_York:20290102T210000
DTSTAMP:20260424T144528
CREATED:20250531T135822Z
LAST-MODIFIED:20250605T101026Z
UID:10000149-1862074800-1862082000@www.gardenhills.org
SUMMARY:NPU-B Monthly Meeting
DESCRIPTION:https://us06web.zoom.us/j/81221608330\nMeeting ID: 812 2160 8330\nDial-In 646-558-8656\nAccess code 81221608330
URL:https://www.gardenhills.org/event/npu-b-monthly-meeting/2029-01-02/
LOCATION:Virtual
CATEGORIES:Neigborhood Planning Unit B
END:VEVENT
BEGIN:VEVENT
DTSTART;TZID=America/New_York:20290130T190000
DTEND;TZID=America/New_York:20290130T210000
DTSTAMP:20260424T144528
CREATED:20250531T140046Z
LAST-MODIFIED:20251124T201503Z
UID:10000209-1864494000-1864501200@www.gardenhills.org
SUMMARY:NPU-B Monthly Zoning Committee Meeting
DESCRIPTION:https://us06web.zoom.us/j/81221608330\nMeeting ID: 812 2160 8330\nDial-In 646-558-8656\nAccess code\, 81221608330#
URL:https://www.gardenhills.org/event/npu-b-monthly-zoning-committee-meeting/2029-01-30/
LOCATION:Virtual
CATEGORIES:Neigborhood Planning Unit B
END:VEVENT
BEGIN:VEVENT
DTSTART;TZID=America/New_York:20290206T190000
DTEND;TZID=America/New_York:20290206T210000
DTSTAMP:20260424T144528
CREATED:20250531T135822Z
LAST-MODIFIED:20250605T101026Z
UID:10000150-1865098800-1865106000@www.gardenhills.org
SUMMARY:NPU-B Monthly Meeting
DESCRIPTION:https://us06web.zoom.us/j/81221608330\nMeeting ID: 812 2160 8330\nDial-In 646-558-8656\nAccess code 81221608330
URL:https://www.gardenhills.org/event/npu-b-monthly-meeting/2029-02-06/
LOCATION:Virtual
CATEGORIES:Neigborhood Planning Unit B
END:VEVENT
BEGIN:VEVENT
DTSTART;TZID=America/New_York:20290227T190000
DTEND;TZID=America/New_York:20290227T210000
DTSTAMP:20260424T144528
CREATED:20250531T140046Z
LAST-MODIFIED:20251124T201503Z
UID:10000210-1866913200-1866920400@www.gardenhills.org
SUMMARY:NPU-B Monthly Zoning Committee Meeting
DESCRIPTION:https://us06web.zoom.us/j/81221608330\nMeeting ID: 812 2160 8330\nDial-In 646-558-8656\nAccess code\, 81221608330#
URL:https://www.gardenhills.org/event/npu-b-monthly-zoning-committee-meeting/2029-02-27/
LOCATION:Virtual
CATEGORIES:Neigborhood Planning Unit B
END:VEVENT
BEGIN:VEVENT
DTSTART;TZID=America/New_York:20290306T190000
DTEND;TZID=America/New_York:20290306T210000
DTSTAMP:20260424T144528
CREATED:20250531T135822Z
LAST-MODIFIED:20250605T101026Z
UID:10000151-1867518000-1867525200@www.gardenhills.org
SUMMARY:NPU-B Monthly Meeting
DESCRIPTION:https://us06web.zoom.us/j/81221608330\nMeeting ID: 812 2160 8330\nDial-In 646-558-8656\nAccess code 81221608330
URL:https://www.gardenhills.org/event/npu-b-monthly-meeting/2029-03-06/
LOCATION:Virtual
CATEGORIES:Neigborhood Planning Unit B
END:VEVENT
BEGIN:VEVENT
DTSTART;TZID=America/New_York:20290327T190000
DTEND;TZID=America/New_York:20290327T210000
DTSTAMP:20260424T144528
CREATED:20250531T140046Z
LAST-MODIFIED:20251124T201503Z
UID:10000211-1869332400-1869339600@www.gardenhills.org
SUMMARY:NPU-B Monthly Zoning Committee Meeting
DESCRIPTION:https://us06web.zoom.us/j/81221608330\nMeeting ID: 812 2160 8330\nDial-In 646-558-8656\nAccess code\, 81221608330#
URL:https://www.gardenhills.org/event/npu-b-monthly-zoning-committee-meeting/2029-03-27/
LOCATION:Virtual
CATEGORIES:Neigborhood Planning Unit B
END:VEVENT
BEGIN:VEVENT
DTSTART;TZID=America/New_York:20290403T190000
DTEND;TZID=America/New_York:20290403T210000
DTSTAMP:20260424T144528
CREATED:20250531T135822Z
LAST-MODIFIED:20250605T101026Z
UID:10000152-1869937200-1869944400@www.gardenhills.org
SUMMARY:NPU-B Monthly Meeting
DESCRIPTION:https://us06web.zoom.us/j/81221608330\nMeeting ID: 812 2160 8330\nDial-In 646-558-8656\nAccess code 81221608330
URL:https://www.gardenhills.org/event/npu-b-monthly-meeting/2029-04-03/
LOCATION:Virtual
CATEGORIES:Neigborhood Planning Unit B
END:VEVENT
BEGIN:VEVENT
DTSTART;TZID=America/New_York:20290424T190000
DTEND;TZID=America/New_York:20290424T210000
DTSTAMP:20260424T144528
CREATED:20250531T140046Z
LAST-MODIFIED:20251124T201503Z
UID:10000212-1871751600-1871758800@www.gardenhills.org
SUMMARY:NPU-B Monthly Zoning Committee Meeting
DESCRIPTION:https://us06web.zoom.us/j/81221608330\nMeeting ID: 812 2160 8330\nDial-In 646-558-8656\nAccess code\, 81221608330#
URL:https://www.gardenhills.org/event/npu-b-monthly-zoning-committee-meeting/2029-04-24/
LOCATION:Virtual
CATEGORIES:Neigborhood Planning Unit B
END:VEVENT
BEGIN:VEVENT
DTSTART;TZID=America/New_York:20290501T190000
DTEND;TZID=America/New_York:20290501T210000
DTSTAMP:20260424T144528
CREATED:20250531T135822Z
LAST-MODIFIED:20250605T101026Z
UID:10000153-1872356400-1872363600@www.gardenhills.org
SUMMARY:NPU-B Monthly Meeting
DESCRIPTION:https://us06web.zoom.us/j/81221608330\nMeeting ID: 812 2160 8330\nDial-In 646-558-8656\nAccess code 81221608330
URL:https://www.gardenhills.org/event/npu-b-monthly-meeting/2029-05-01/
LOCATION:Virtual
CATEGORIES:Neigborhood Planning Unit B
END:VEVENT
BEGIN:VEVENT
DTSTART;TZID=America/New_York:20290529T190000
DTEND;TZID=America/New_York:20290529T210000
DTSTAMP:20260424T144528
CREATED:20250531T140046Z
LAST-MODIFIED:20251124T201503Z
UID:10000213-1874775600-1874782800@www.gardenhills.org
SUMMARY:NPU-B Monthly Zoning Committee Meeting
DESCRIPTION:https://us06web.zoom.us/j/81221608330\nMeeting ID: 812 2160 8330\nDial-In 646-558-8656\nAccess code\, 81221608330#
URL:https://www.gardenhills.org/event/npu-b-monthly-zoning-committee-meeting/2029-05-29/
LOCATION:Virtual
CATEGORIES:Neigborhood Planning Unit B
END:VEVENT
BEGIN:VEVENT
DTSTART;TZID=America/New_York:20290605T190000
DTEND;TZID=America/New_York:20290605T210000
DTSTAMP:20260424T144528
CREATED:20250531T135822Z
LAST-MODIFIED:20250605T101026Z
UID:10000154-1875380400-1875387600@www.gardenhills.org
SUMMARY:NPU-B Monthly Meeting
DESCRIPTION:https://us06web.zoom.us/j/81221608330\nMeeting ID: 812 2160 8330\nDial-In 646-558-8656\nAccess code 81221608330
URL:https://www.gardenhills.org/event/npu-b-monthly-meeting/2029-06-05/
LOCATION:Virtual
CATEGORIES:Neigborhood Planning Unit B
END:VEVENT
BEGIN:VEVENT
DTSTART;TZID=America/New_York:20290626T190000
DTEND;TZID=America/New_York:20290626T210000
DTSTAMP:20260424T144528
CREATED:20250531T140046Z
LAST-MODIFIED:20251124T201503Z
UID:10000214-1877194800-1877202000@www.gardenhills.org
SUMMARY:NPU-B Monthly Zoning Committee Meeting
DESCRIPTION:https://us06web.zoom.us/j/81221608330\nMeeting ID: 812 2160 8330\nDial-In 646-558-8656\nAccess code\, 81221608330#
URL:https://www.gardenhills.org/event/npu-b-monthly-zoning-committee-meeting/2029-06-26/
LOCATION:Virtual
CATEGORIES:Neigborhood Planning Unit B
END:VEVENT
BEGIN:VEVENT
DTSTART;TZID=America/New_York:20290703T190000
DTEND;TZID=America/New_York:20290703T210000
DTSTAMP:20260424T144528
CREATED:20250531T135822Z
LAST-MODIFIED:20250605T101026Z
UID:10000155-1877799600-1877806800@www.gardenhills.org
SUMMARY:NPU-B Monthly Meeting
DESCRIPTION:https://us06web.zoom.us/j/81221608330\nMeeting ID: 812 2160 8330\nDial-In 646-558-8656\nAccess code 81221608330
URL:https://www.gardenhills.org/event/npu-b-monthly-meeting/2029-07-03/
LOCATION:Virtual
CATEGORIES:Neigborhood Planning Unit B
END:VEVENT
BEGIN:VEVENT
DTSTART;TZID=America/New_York:20290731T190000
DTEND;TZID=America/New_York:20290731T210000
DTSTAMP:20260424T144528
CREATED:20250531T140046Z
LAST-MODIFIED:20251124T201503Z
UID:10000215-1880218800-1880226000@www.gardenhills.org
SUMMARY:NPU-B Monthly Zoning Committee Meeting
DESCRIPTION:https://us06web.zoom.us/j/81221608330\nMeeting ID: 812 2160 8330\nDial-In 646-558-8656\nAccess code\, 81221608330#
URL:https://www.gardenhills.org/event/npu-b-monthly-zoning-committee-meeting/2029-07-31/
LOCATION:Virtual
CATEGORIES:Neigborhood Planning Unit B
END:VEVENT
BEGIN:VEVENT
DTSTART;TZID=America/New_York:20290807T190000
DTEND;TZID=America/New_York:20290807T210000
DTSTAMP:20260424T144528
CREATED:20250531T135822Z
LAST-MODIFIED:20250605T101026Z
UID:10000156-1880823600-1880830800@www.gardenhills.org
SUMMARY:NPU-B Monthly Meeting
DESCRIPTION:https://us06web.zoom.us/j/81221608330\nMeeting ID: 812 2160 8330\nDial-In 646-558-8656\nAccess code 81221608330
URL:https://www.gardenhills.org/event/npu-b-monthly-meeting/2029-08-07/
LOCATION:Virtual
CATEGORIES:Neigborhood Planning Unit B
END:VEVENT
BEGIN:VEVENT
DTSTART;TZID=America/New_York:20290828T190000
DTEND;TZID=America/New_York:20290828T210000
DTSTAMP:20260424T144528
CREATED:20250531T140046Z
LAST-MODIFIED:20251124T201503Z
UID:10000216-1882638000-1882645200@www.gardenhills.org
SUMMARY:NPU-B Monthly Zoning Committee Meeting
DESCRIPTION:https://us06web.zoom.us/j/81221608330\nMeeting ID: 812 2160 8330\nDial-In 646-558-8656\nAccess code\, 81221608330#
URL:https://www.gardenhills.org/event/npu-b-monthly-zoning-committee-meeting/2029-08-28/
LOCATION:Virtual
CATEGORIES:Neigborhood Planning Unit B
END:VEVENT
BEGIN:VEVENT
DTSTART;TZID=America/New_York:20290904T190000
DTEND;TZID=America/New_York:20290904T210000
DTSTAMP:20260424T144528
CREATED:20250531T135822Z
LAST-MODIFIED:20250605T101026Z
UID:10000157-1883242800-1883250000@www.gardenhills.org
SUMMARY:NPU-B Monthly Meeting
DESCRIPTION:https://us06web.zoom.us/j/81221608330\nMeeting ID: 812 2160 8330\nDial-In 646-558-8656\nAccess code 81221608330
URL:https://www.gardenhills.org/event/npu-b-monthly-meeting/2029-09-04/
LOCATION:Virtual
CATEGORIES:Neigborhood Planning Unit B
END:VEVENT
BEGIN:VEVENT
DTSTART;TZID=America/New_York:20290925T190000
DTEND;TZID=America/New_York:20290925T210000
DTSTAMP:20260424T144528
CREATED:20250531T140046Z
LAST-MODIFIED:20251124T201503Z
UID:10000217-1885057200-1885064400@www.gardenhills.org
SUMMARY:NPU-B Monthly Zoning Committee Meeting
DESCRIPTION:https://us06web.zoom.us/j/81221608330\nMeeting ID: 812 2160 8330\nDial-In 646-558-8656\nAccess code\, 81221608330#
URL:https://www.gardenhills.org/event/npu-b-monthly-zoning-committee-meeting/2029-09-25/
LOCATION:Virtual
CATEGORIES:Neigborhood Planning Unit B
END:VEVENT
BEGIN:VEVENT
DTSTART;TZID=America/New_York:20291002T190000
DTEND;TZID=America/New_York:20291002T210000
DTSTAMP:20260424T144528
CREATED:20250531T135822Z
LAST-MODIFIED:20250605T101026Z
UID:10000158-1885662000-1885669200@www.gardenhills.org
SUMMARY:NPU-B Monthly Meeting
DESCRIPTION:https://us06web.zoom.us/j/81221608330\nMeeting ID: 812 2160 8330\nDial-In 646-558-8656\nAccess code 81221608330
URL:https://www.gardenhills.org/event/npu-b-monthly-meeting/2029-10-02/
LOCATION:Virtual
CATEGORIES:Neigborhood Planning Unit B
END:VEVENT
BEGIN:VEVENT
DTSTART;TZID=America/New_York:20291030T190000
DTEND;TZID=America/New_York:20291030T210000
DTSTAMP:20260424T144528
CREATED:20250531T140046Z
LAST-MODIFIED:20251124T201503Z
UID:10000218-1888081200-1888088400@www.gardenhills.org
SUMMARY:NPU-B Monthly Zoning Committee Meeting
DESCRIPTION:https://us06web.zoom.us/j/81221608330\nMeeting ID: 812 2160 8330\nDial-In 646-558-8656\nAccess code\, 81221608330#
URL:https://www.gardenhills.org/event/npu-b-monthly-zoning-committee-meeting/2029-10-30/
LOCATION:Virtual
CATEGORIES:Neigborhood Planning Unit B
END:VEVENT
BEGIN:VEVENT
DTSTART;TZID=America/New_York:20291106T190000
DTEND;TZID=America/New_York:20291106T210000
DTSTAMP:20260424T144528
CREATED:20250531T135822Z
LAST-MODIFIED:20250605T101026Z
UID:10000159-1888686000-1888693200@www.gardenhills.org
SUMMARY:NPU-B Monthly Meeting
DESCRIPTION:https://us06web.zoom.us/j/81221608330\nMeeting ID: 812 2160 8330\nDial-In 646-558-8656\nAccess code 81221608330
URL:https://www.gardenhills.org/event/npu-b-monthly-meeting/2029-11-06/
LOCATION:Virtual
CATEGORIES:Neigborhood Planning Unit B
END:VEVENT
BEGIN:VEVENT
DTSTART;TZID=America/New_York:20291127T190000
DTEND;TZID=America/New_York:20291127T210000
DTSTAMP:20260424T144528
CREATED:20250531T140046Z
LAST-MODIFIED:20251124T201503Z
UID:10000219-1890500400-1890507600@www.gardenhills.org
SUMMARY:NPU-B Monthly Zoning Committee Meeting
DESCRIPTION:https://us06web.zoom.us/j/81221608330\nMeeting ID: 812 2160 8330\nDial-In 646-558-8656\nAccess code\, 81221608330#
URL:https://www.gardenhills.org/event/npu-b-monthly-zoning-committee-meeting/2029-11-27/
LOCATION:Virtual
CATEGORIES:Neigborhood Planning Unit B
END:VEVENT
BEGIN:VEVENT
DTSTART;TZID=America/New_York:20291204T190000
DTEND;TZID=America/New_York:20291204T210000
DTSTAMP:20260424T144528
CREATED:20250531T135822Z
LAST-MODIFIED:20250605T101026Z
UID:10000160-1891105200-1891112400@www.gardenhills.org
SUMMARY:NPU-B Monthly Meeting
DESCRIPTION:https://us06web.zoom.us/j/81221608330\nMeeting ID: 812 2160 8330\nDial-In 646-558-8656\nAccess code 81221608330
URL:https://www.gardenhills.org/event/npu-b-monthly-meeting/2029-12-04/
LOCATION:Virtual
CATEGORIES:Neigborhood Planning Unit B
END:VEVENT
BEGIN:VEVENT
DTSTART;TZID=America/New_York:20291225T190000
DTEND;TZID=America/New_York:20291225T210000
DTSTAMP:20260424T144528
CREATED:20250531T140046Z
LAST-MODIFIED:20251124T201503Z
UID:10000220-1892919600-1892926800@www.gardenhills.org
SUMMARY:NPU-B Monthly Zoning Committee Meeting
DESCRIPTION:https://us06web.zoom.us/j/81221608330\nMeeting ID: 812 2160 8330\nDial-In 646-558-8656\nAccess code\, 81221608330#
URL:https://www.gardenhills.org/event/npu-b-monthly-zoning-committee-meeting/2029-12-25/
LOCATION:Virtual
CATEGORIES:Neigborhood Planning Unit B
END:VEVENT
BEGIN:VEVENT
DTSTART;TZID=America/New_York:20300101T190000
DTEND;TZID=America/New_York:20300101T210000
DTSTAMP:20260424T144528
CREATED:20250531T135822Z
LAST-MODIFIED:20250605T101026Z
UID:10000161-1893524400-1893531600@www.gardenhills.org
SUMMARY:NPU-B Monthly Meeting
DESCRIPTION:https://us06web.zoom.us/j/81221608330\nMeeting ID: 812 2160 8330\nDial-In 646-558-8656\nAccess code 81221608330
URL:https://www.gardenhills.org/event/npu-b-monthly-meeting/2030-01-01/
LOCATION:Virtual
CATEGORIES:Neigborhood Planning Unit B
END:VEVENT
END:VCALENDAR