BEGIN:VCALENDAR
VERSION:2.0
PRODID:-//Beautiful Garden Hills - ECPv6.15.20//NONSGML v1.0//EN
CALSCALE:GREGORIAN
METHOD:PUBLISH
X-WR-CALNAME:Beautiful Garden Hills
X-ORIGINAL-URL:https://www.gardenhills.org
X-WR-CALDESC:Events for Beautiful Garden Hills
REFRESH-INTERVAL;VALUE=DURATION:PT1H
X-Robots-Tag:noindex
X-PUBLISHED-TTL:PT1H
BEGIN:VTIMEZONE
TZID:America/New_York
BEGIN:DAYLIGHT
TZOFFSETFROM:-0500
TZOFFSETTO:-0400
TZNAME:EDT
DTSTART:20260308T070000
END:DAYLIGHT
BEGIN:STANDARD
TZOFFSETFROM:-0400
TZOFFSETTO:-0500
TZNAME:EST
DTSTART:20261101T060000
END:STANDARD
BEGIN:DAYLIGHT
TZOFFSETFROM:-0500
TZOFFSETTO:-0400
TZNAME:EDT
DTSTART:20270314T070000
END:DAYLIGHT
BEGIN:STANDARD
TZOFFSETFROM:-0400
TZOFFSETTO:-0500
TZNAME:EST
DTSTART:20271107T060000
END:STANDARD
BEGIN:DAYLIGHT
TZOFFSETFROM:-0500
TZOFFSETTO:-0400
TZNAME:EDT
DTSTART:20280312T070000
END:DAYLIGHT
BEGIN:STANDARD
TZOFFSETFROM:-0400
TZOFFSETTO:-0500
TZNAME:EST
DTSTART:20281105T060000
END:STANDARD
BEGIN:DAYLIGHT
TZOFFSETFROM:-0500
TZOFFSETTO:-0400
TZNAME:EDT
DTSTART:20290311T070000
END:DAYLIGHT
BEGIN:STANDARD
TZOFFSETFROM:-0400
TZOFFSETTO:-0500
TZNAME:EST
DTSTART:20291104T060000
END:STANDARD
END:VTIMEZONE
BEGIN:VEVENT
DTSTART;TZID=America/New_York:20270427T190000
DTEND;TZID=America/New_York:20270427T210000
DTSTAMP:20260424T093628
CREATED:20250531T140046Z
LAST-MODIFIED:20251124T201503Z
UID:10000188-1808852400-1808859600@www.gardenhills.org
SUMMARY:NPU-B Monthly Zoning Committee Meeting
DESCRIPTION:https://us06web.zoom.us/j/81221608330\nMeeting ID: 812 2160 8330\nDial-In 646-558-8656\nAccess code\, 81221608330#
URL:https://www.gardenhills.org/event/npu-b-monthly-zoning-committee-meeting/2027-04-27/
LOCATION:Virtual
CATEGORIES:Neigborhood Planning Unit B
END:VEVENT
BEGIN:VEVENT
DTSTART;TZID=America/New_York:20270504T190000
DTEND;TZID=America/New_York:20270504T210000
DTSTAMP:20260424T093628
CREATED:20250531T135822Z
LAST-MODIFIED:20250605T101026Z
UID:10000129-1809457200-1809464400@www.gardenhills.org
SUMMARY:NPU-B Monthly Meeting
DESCRIPTION:https://us06web.zoom.us/j/81221608330\nMeeting ID: 812 2160 8330\nDial-In 646-558-8656\nAccess code 81221608330
URL:https://www.gardenhills.org/event/npu-b-monthly-meeting/2027-05-04/
LOCATION:Virtual
CATEGORIES:Neigborhood Planning Unit B
END:VEVENT
BEGIN:VEVENT
DTSTART;TZID=America/New_York:20270525T190000
DTEND;TZID=America/New_York:20270525T210000
DTSTAMP:20260424T093628
CREATED:20250531T140046Z
LAST-MODIFIED:20251124T201503Z
UID:10000189-1811271600-1811278800@www.gardenhills.org
SUMMARY:NPU-B Monthly Zoning Committee Meeting
DESCRIPTION:https://us06web.zoom.us/j/81221608330\nMeeting ID: 812 2160 8330\nDial-In 646-558-8656\nAccess code\, 81221608330#
URL:https://www.gardenhills.org/event/npu-b-monthly-zoning-committee-meeting/2027-05-25/
LOCATION:Virtual
CATEGORIES:Neigborhood Planning Unit B
END:VEVENT
BEGIN:VEVENT
DTSTART;TZID=America/New_York:20270601T190000
DTEND;TZID=America/New_York:20270601T210000
DTSTAMP:20260424T093628
CREATED:20250531T135822Z
LAST-MODIFIED:20250605T101026Z
UID:10000130-1811876400-1811883600@www.gardenhills.org
SUMMARY:NPU-B Monthly Meeting
DESCRIPTION:https://us06web.zoom.us/j/81221608330\nMeeting ID: 812 2160 8330\nDial-In 646-558-8656\nAccess code 81221608330
URL:https://www.gardenhills.org/event/npu-b-monthly-meeting/2027-06-01/
LOCATION:Virtual
CATEGORIES:Neigborhood Planning Unit B
END:VEVENT
BEGIN:VEVENT
DTSTART;TZID=America/New_York:20270629T190000
DTEND;TZID=America/New_York:20270629T210000
DTSTAMP:20260424T093628
CREATED:20250531T140046Z
LAST-MODIFIED:20251124T201503Z
UID:10000190-1814295600-1814302800@www.gardenhills.org
SUMMARY:NPU-B Monthly Zoning Committee Meeting
DESCRIPTION:https://us06web.zoom.us/j/81221608330\nMeeting ID: 812 2160 8330\nDial-In 646-558-8656\nAccess code\, 81221608330#
URL:https://www.gardenhills.org/event/npu-b-monthly-zoning-committee-meeting/2027-06-29/
LOCATION:Virtual
CATEGORIES:Neigborhood Planning Unit B
END:VEVENT
BEGIN:VEVENT
DTSTART;TZID=America/New_York:20270706T190000
DTEND;TZID=America/New_York:20270706T210000
DTSTAMP:20260424T093628
CREATED:20250531T135822Z
LAST-MODIFIED:20250605T101026Z
UID:10000131-1814900400-1814907600@www.gardenhills.org
SUMMARY:NPU-B Monthly Meeting
DESCRIPTION:https://us06web.zoom.us/j/81221608330\nMeeting ID: 812 2160 8330\nDial-In 646-558-8656\nAccess code 81221608330
URL:https://www.gardenhills.org/event/npu-b-monthly-meeting/2027-07-06/
LOCATION:Virtual
CATEGORIES:Neigborhood Planning Unit B
END:VEVENT
BEGIN:VEVENT
DTSTART;TZID=America/New_York:20270727T190000
DTEND;TZID=America/New_York:20270727T210000
DTSTAMP:20260424T093629
CREATED:20250531T140046Z
LAST-MODIFIED:20251124T201503Z
UID:10000191-1816714800-1816722000@www.gardenhills.org
SUMMARY:NPU-B Monthly Zoning Committee Meeting
DESCRIPTION:https://us06web.zoom.us/j/81221608330\nMeeting ID: 812 2160 8330\nDial-In 646-558-8656\nAccess code\, 81221608330#
URL:https://www.gardenhills.org/event/npu-b-monthly-zoning-committee-meeting/2027-07-27/
LOCATION:Virtual
CATEGORIES:Neigborhood Planning Unit B
END:VEVENT
BEGIN:VEVENT
DTSTART;TZID=America/New_York:20270803T190000
DTEND;TZID=America/New_York:20270803T210000
DTSTAMP:20260424T093629
CREATED:20250531T135822Z
LAST-MODIFIED:20250605T101026Z
UID:10000132-1817319600-1817326800@www.gardenhills.org
SUMMARY:NPU-B Monthly Meeting
DESCRIPTION:https://us06web.zoom.us/j/81221608330\nMeeting ID: 812 2160 8330\nDial-In 646-558-8656\nAccess code 81221608330
URL:https://www.gardenhills.org/event/npu-b-monthly-meeting/2027-08-03/
LOCATION:Virtual
CATEGORIES:Neigborhood Planning Unit B
END:VEVENT
BEGIN:VEVENT
DTSTART;TZID=America/New_York:20270831T190000
DTEND;TZID=America/New_York:20270831T210000
DTSTAMP:20260424T093629
CREATED:20250531T140046Z
LAST-MODIFIED:20251124T201503Z
UID:10000192-1819738800-1819746000@www.gardenhills.org
SUMMARY:NPU-B Monthly Zoning Committee Meeting
DESCRIPTION:https://us06web.zoom.us/j/81221608330\nMeeting ID: 812 2160 8330\nDial-In 646-558-8656\nAccess code\, 81221608330#
URL:https://www.gardenhills.org/event/npu-b-monthly-zoning-committee-meeting/2027-08-31/
LOCATION:Virtual
CATEGORIES:Neigborhood Planning Unit B
END:VEVENT
BEGIN:VEVENT
DTSTART;TZID=America/New_York:20270907T190000
DTEND;TZID=America/New_York:20270907T210000
DTSTAMP:20260424T093629
CREATED:20250531T135822Z
LAST-MODIFIED:20250605T101026Z
UID:10000133-1820343600-1820350800@www.gardenhills.org
SUMMARY:NPU-B Monthly Meeting
DESCRIPTION:https://us06web.zoom.us/j/81221608330\nMeeting ID: 812 2160 8330\nDial-In 646-558-8656\nAccess code 81221608330
URL:https://www.gardenhills.org/event/npu-b-monthly-meeting/2027-09-07/
LOCATION:Virtual
CATEGORIES:Neigborhood Planning Unit B
END:VEVENT
BEGIN:VEVENT
DTSTART;TZID=America/New_York:20270928T190000
DTEND;TZID=America/New_York:20270928T210000
DTSTAMP:20260424T093629
CREATED:20250531T140046Z
LAST-MODIFIED:20251124T201503Z
UID:10000193-1822158000-1822165200@www.gardenhills.org
SUMMARY:NPU-B Monthly Zoning Committee Meeting
DESCRIPTION:https://us06web.zoom.us/j/81221608330\nMeeting ID: 812 2160 8330\nDial-In 646-558-8656\nAccess code\, 81221608330#
URL:https://www.gardenhills.org/event/npu-b-monthly-zoning-committee-meeting/2027-09-28/
LOCATION:Virtual
CATEGORIES:Neigborhood Planning Unit B
END:VEVENT
BEGIN:VEVENT
DTSTART;TZID=America/New_York:20271005T190000
DTEND;TZID=America/New_York:20271005T210000
DTSTAMP:20260424T093629
CREATED:20250531T135822Z
LAST-MODIFIED:20250605T101026Z
UID:10000134-1822762800-1822770000@www.gardenhills.org
SUMMARY:NPU-B Monthly Meeting
DESCRIPTION:https://us06web.zoom.us/j/81221608330\nMeeting ID: 812 2160 8330\nDial-In 646-558-8656\nAccess code 81221608330
URL:https://www.gardenhills.org/event/npu-b-monthly-meeting/2027-10-05/
LOCATION:Virtual
CATEGORIES:Neigborhood Planning Unit B
END:VEVENT
BEGIN:VEVENT
DTSTART;TZID=America/New_York:20271026T190000
DTEND;TZID=America/New_York:20271026T210000
DTSTAMP:20260424T093629
CREATED:20250531T140046Z
LAST-MODIFIED:20251124T201503Z
UID:10000194-1824577200-1824584400@www.gardenhills.org
SUMMARY:NPU-B Monthly Zoning Committee Meeting
DESCRIPTION:https://us06web.zoom.us/j/81221608330\nMeeting ID: 812 2160 8330\nDial-In 646-558-8656\nAccess code\, 81221608330#
URL:https://www.gardenhills.org/event/npu-b-monthly-zoning-committee-meeting/2027-10-26/
LOCATION:Virtual
CATEGORIES:Neigborhood Planning Unit B
END:VEVENT
BEGIN:VEVENT
DTSTART;TZID=America/New_York:20271102T190000
DTEND;TZID=America/New_York:20271102T210000
DTSTAMP:20260424T093629
CREATED:20250531T135822Z
LAST-MODIFIED:20250605T101026Z
UID:10000135-1825182000-1825189200@www.gardenhills.org
SUMMARY:NPU-B Monthly Meeting
DESCRIPTION:https://us06web.zoom.us/j/81221608330\nMeeting ID: 812 2160 8330\nDial-In 646-558-8656\nAccess code 81221608330
URL:https://www.gardenhills.org/event/npu-b-monthly-meeting/2027-11-02/
LOCATION:Virtual
CATEGORIES:Neigborhood Planning Unit B
END:VEVENT
BEGIN:VEVENT
DTSTART;TZID=America/New_York:20271130T190000
DTEND;TZID=America/New_York:20271130T210000
DTSTAMP:20260424T093629
CREATED:20250531T140046Z
LAST-MODIFIED:20251124T201503Z
UID:10000195-1827601200-1827608400@www.gardenhills.org
SUMMARY:NPU-B Monthly Zoning Committee Meeting
DESCRIPTION:https://us06web.zoom.us/j/81221608330\nMeeting ID: 812 2160 8330\nDial-In 646-558-8656\nAccess code\, 81221608330#
URL:https://www.gardenhills.org/event/npu-b-monthly-zoning-committee-meeting/2027-11-30/
LOCATION:Virtual
CATEGORIES:Neigborhood Planning Unit B
END:VEVENT
BEGIN:VEVENT
DTSTART;TZID=America/New_York:20271207T190000
DTEND;TZID=America/New_York:20271207T210000
DTSTAMP:20260424T093629
CREATED:20250531T135822Z
LAST-MODIFIED:20250605T101026Z
UID:10000136-1828206000-1828213200@www.gardenhills.org
SUMMARY:NPU-B Monthly Meeting
DESCRIPTION:https://us06web.zoom.us/j/81221608330\nMeeting ID: 812 2160 8330\nDial-In 646-558-8656\nAccess code 81221608330
URL:https://www.gardenhills.org/event/npu-b-monthly-meeting/2027-12-07/
LOCATION:Virtual
CATEGORIES:Neigborhood Planning Unit B
END:VEVENT
BEGIN:VEVENT
DTSTART;TZID=America/New_York:20271228T190000
DTEND;TZID=America/New_York:20271228T210000
DTSTAMP:20260424T093629
CREATED:20250531T140046Z
LAST-MODIFIED:20251124T201503Z
UID:10000196-1830020400-1830027600@www.gardenhills.org
SUMMARY:NPU-B Monthly Zoning Committee Meeting
DESCRIPTION:https://us06web.zoom.us/j/81221608330\nMeeting ID: 812 2160 8330\nDial-In 646-558-8656\nAccess code\, 81221608330#
URL:https://www.gardenhills.org/event/npu-b-monthly-zoning-committee-meeting/2027-12-28/
LOCATION:Virtual
CATEGORIES:Neigborhood Planning Unit B
END:VEVENT
BEGIN:VEVENT
DTSTART;TZID=America/New_York:20280104T190000
DTEND;TZID=America/New_York:20280104T210000
DTSTAMP:20260424T093629
CREATED:20250531T135822Z
LAST-MODIFIED:20250605T101026Z
UID:10000137-1830625200-1830632400@www.gardenhills.org
SUMMARY:NPU-B Monthly Meeting
DESCRIPTION:https://us06web.zoom.us/j/81221608330\nMeeting ID: 812 2160 8330\nDial-In 646-558-8656\nAccess code 81221608330
URL:https://www.gardenhills.org/event/npu-b-monthly-meeting/2028-01-04/
LOCATION:Virtual
CATEGORIES:Neigborhood Planning Unit B
END:VEVENT
BEGIN:VEVENT
DTSTART;TZID=America/New_York:20280125T190000
DTEND;TZID=America/New_York:20280125T210000
DTSTAMP:20260424T093629
CREATED:20250531T140046Z
LAST-MODIFIED:20251124T201503Z
UID:10000197-1832439600-1832446800@www.gardenhills.org
SUMMARY:NPU-B Monthly Zoning Committee Meeting
DESCRIPTION:https://us06web.zoom.us/j/81221608330\nMeeting ID: 812 2160 8330\nDial-In 646-558-8656\nAccess code\, 81221608330#
URL:https://www.gardenhills.org/event/npu-b-monthly-zoning-committee-meeting/2028-01-25/
LOCATION:Virtual
CATEGORIES:Neigborhood Planning Unit B
END:VEVENT
BEGIN:VEVENT
DTSTART;TZID=America/New_York:20280201T190000
DTEND;TZID=America/New_York:20280201T210000
DTSTAMP:20260424T093629
CREATED:20250531T135822Z
LAST-MODIFIED:20250605T101026Z
UID:10000138-1833044400-1833051600@www.gardenhills.org
SUMMARY:NPU-B Monthly Meeting
DESCRIPTION:https://us06web.zoom.us/j/81221608330\nMeeting ID: 812 2160 8330\nDial-In 646-558-8656\nAccess code 81221608330
URL:https://www.gardenhills.org/event/npu-b-monthly-meeting/2028-02-01/
LOCATION:Virtual
CATEGORIES:Neigborhood Planning Unit B
END:VEVENT
BEGIN:VEVENT
DTSTART;TZID=America/New_York:20280229T190000
DTEND;TZID=America/New_York:20280229T210000
DTSTAMP:20260424T093629
CREATED:20250531T140046Z
LAST-MODIFIED:20251124T201503Z
UID:10000198-1835463600-1835470800@www.gardenhills.org
SUMMARY:NPU-B Monthly Zoning Committee Meeting
DESCRIPTION:https://us06web.zoom.us/j/81221608330\nMeeting ID: 812 2160 8330\nDial-In 646-558-8656\nAccess code\, 81221608330#
URL:https://www.gardenhills.org/event/npu-b-monthly-zoning-committee-meeting/2028-02-29/
LOCATION:Virtual
CATEGORIES:Neigborhood Planning Unit B
END:VEVENT
BEGIN:VEVENT
DTSTART;TZID=America/New_York:20280307T190000
DTEND;TZID=America/New_York:20280307T210000
DTSTAMP:20260424T093629
CREATED:20250531T135822Z
LAST-MODIFIED:20250605T101026Z
UID:10000139-1836068400-1836075600@www.gardenhills.org
SUMMARY:NPU-B Monthly Meeting
DESCRIPTION:https://us06web.zoom.us/j/81221608330\nMeeting ID: 812 2160 8330\nDial-In 646-558-8656\nAccess code 81221608330
URL:https://www.gardenhills.org/event/npu-b-monthly-meeting/2028-03-07/
LOCATION:Virtual
CATEGORIES:Neigborhood Planning Unit B
END:VEVENT
BEGIN:VEVENT
DTSTART;TZID=America/New_York:20280328T190000
DTEND;TZID=America/New_York:20280328T210000
DTSTAMP:20260424T093629
CREATED:20250531T140046Z
LAST-MODIFIED:20251124T201503Z
UID:10000199-1837882800-1837890000@www.gardenhills.org
SUMMARY:NPU-B Monthly Zoning Committee Meeting
DESCRIPTION:https://us06web.zoom.us/j/81221608330\nMeeting ID: 812 2160 8330\nDial-In 646-558-8656\nAccess code\, 81221608330#
URL:https://www.gardenhills.org/event/npu-b-monthly-zoning-committee-meeting/2028-03-28/
LOCATION:Virtual
CATEGORIES:Neigborhood Planning Unit B
END:VEVENT
BEGIN:VEVENT
DTSTART;TZID=America/New_York:20280404T190000
DTEND;TZID=America/New_York:20280404T210000
DTSTAMP:20260424T093629
CREATED:20250531T135822Z
LAST-MODIFIED:20250605T101026Z
UID:10000140-1838487600-1838494800@www.gardenhills.org
SUMMARY:NPU-B Monthly Meeting
DESCRIPTION:https://us06web.zoom.us/j/81221608330\nMeeting ID: 812 2160 8330\nDial-In 646-558-8656\nAccess code 81221608330
URL:https://www.gardenhills.org/event/npu-b-monthly-meeting/2028-04-04/
LOCATION:Virtual
CATEGORIES:Neigborhood Planning Unit B
END:VEVENT
BEGIN:VEVENT
DTSTART;TZID=America/New_York:20280425T190000
DTEND;TZID=America/New_York:20280425T210000
DTSTAMP:20260424T093629
CREATED:20250531T140046Z
LAST-MODIFIED:20251124T201503Z
UID:10000200-1840302000-1840309200@www.gardenhills.org
SUMMARY:NPU-B Monthly Zoning Committee Meeting
DESCRIPTION:https://us06web.zoom.us/j/81221608330\nMeeting ID: 812 2160 8330\nDial-In 646-558-8656\nAccess code\, 81221608330#
URL:https://www.gardenhills.org/event/npu-b-monthly-zoning-committee-meeting/2028-04-25/
LOCATION:Virtual
CATEGORIES:Neigborhood Planning Unit B
END:VEVENT
BEGIN:VEVENT
DTSTART;TZID=America/New_York:20280502T190000
DTEND;TZID=America/New_York:20280502T210000
DTSTAMP:20260424T093629
CREATED:20250531T135822Z
LAST-MODIFIED:20250605T101026Z
UID:10000141-1840906800-1840914000@www.gardenhills.org
SUMMARY:NPU-B Monthly Meeting
DESCRIPTION:https://us06web.zoom.us/j/81221608330\nMeeting ID: 812 2160 8330\nDial-In 646-558-8656\nAccess code 81221608330
URL:https://www.gardenhills.org/event/npu-b-monthly-meeting/2028-05-02/
LOCATION:Virtual
CATEGORIES:Neigborhood Planning Unit B
END:VEVENT
BEGIN:VEVENT
DTSTART;TZID=America/New_York:20280530T190000
DTEND;TZID=America/New_York:20280530T210000
DTSTAMP:20260424T093629
CREATED:20250531T140046Z
LAST-MODIFIED:20251124T201503Z
UID:10000201-1843326000-1843333200@www.gardenhills.org
SUMMARY:NPU-B Monthly Zoning Committee Meeting
DESCRIPTION:https://us06web.zoom.us/j/81221608330\nMeeting ID: 812 2160 8330\nDial-In 646-558-8656\nAccess code\, 81221608330#
URL:https://www.gardenhills.org/event/npu-b-monthly-zoning-committee-meeting/2028-05-30/
LOCATION:Virtual
CATEGORIES:Neigborhood Planning Unit B
END:VEVENT
BEGIN:VEVENT
DTSTART;TZID=America/New_York:20280606T190000
DTEND;TZID=America/New_York:20280606T210000
DTSTAMP:20260424T093629
CREATED:20250531T135822Z
LAST-MODIFIED:20250605T101026Z
UID:10000142-1843930800-1843938000@www.gardenhills.org
SUMMARY:NPU-B Monthly Meeting
DESCRIPTION:https://us06web.zoom.us/j/81221608330\nMeeting ID: 812 2160 8330\nDial-In 646-558-8656\nAccess code 81221608330
URL:https://www.gardenhills.org/event/npu-b-monthly-meeting/2028-06-06/
LOCATION:Virtual
CATEGORIES:Neigborhood Planning Unit B
END:VEVENT
BEGIN:VEVENT
DTSTART;TZID=America/New_York:20280627T190000
DTEND;TZID=America/New_York:20280627T210000
DTSTAMP:20260424T093629
CREATED:20250531T140046Z
LAST-MODIFIED:20251124T201503Z
UID:10000202-1845745200-1845752400@www.gardenhills.org
SUMMARY:NPU-B Monthly Zoning Committee Meeting
DESCRIPTION:https://us06web.zoom.us/j/81221608330\nMeeting ID: 812 2160 8330\nDial-In 646-558-8656\nAccess code\, 81221608330#
URL:https://www.gardenhills.org/event/npu-b-monthly-zoning-committee-meeting/2028-06-27/
LOCATION:Virtual
CATEGORIES:Neigborhood Planning Unit B
END:VEVENT
BEGIN:VEVENT
DTSTART;TZID=America/New_York:20280704T190000
DTEND;TZID=America/New_York:20280704T210000
DTSTAMP:20260424T093629
CREATED:20250531T135822Z
LAST-MODIFIED:20250605T101026Z
UID:10000143-1846350000-1846357200@www.gardenhills.org
SUMMARY:NPU-B Monthly Meeting
DESCRIPTION:https://us06web.zoom.us/j/81221608330\nMeeting ID: 812 2160 8330\nDial-In 646-558-8656\nAccess code 81221608330
URL:https://www.gardenhills.org/event/npu-b-monthly-meeting/2028-07-04/
LOCATION:Virtual
CATEGORIES:Neigborhood Planning Unit B
END:VEVENT
END:VCALENDAR